{"text_format":"3","workbook":"xlsx","n_sheets":8,"sheets":["RESUMEN","Consolidado","HLS","HCQ","HOV","HILL","Hoja Dinámica","Filtro_DIC"],"not_rendered":{"pivot_tables":1},"read":"whole","date_system":"1900"}

{"sheet":"RESUMEN","index":0,"n_rows":30,"n_cols":11,"rows_kept":30,"merged":[[6,1,10,11],[12,1,17,1],[12,2,13,7],[12,8,13,9],[12,10,17,11],[14,3,14,6],[14,8,17,9],[15,2,17,2],[15,3,17,3],[15,4,17,4],[15,5,17,5],[15,6,17,6],[15,7,17,7],[18,1,19,1],[18,2,19,2],[18,3,19,3],[18,4,19,4],[18,5,19,5],[18,6,19,6],[18,7,19,7],[18,8,19,9],[18,10,19,11],[20,1,21,1],[20,2,21,2],[20,3,21,3],[20,4,21,4],[20,5,21,5],[20,6,21,6],[20,7,21,7],[20,8,21,9],[20,10,21,11],[22,1,23,1],[22,2,23,2],[22,3,23,3],[22,4,23,4],[22,5,23,5],[22,6,23,6],[22,7,23,7],[22,8,23,9],[22,10,23,11],[24,1,25,1],[24,2,25,2],[24,3,25,3],[24,4,25,4],[24,5,25,5],[24,6,25,6],[24,7,25,7],[24,8,25,9],[24,10,25,11],[26,1,28,1],[26,2,28,2],[26,3,28,3],[26,4,28,4],[26,5,28,5],[26,6,28,6],[26,7,28,7],[26,8,28,9],[26,10,28,11]]}
[" "]
["SERVICIO DE SALUD COQUIMBO"]
["DEPARTAMENTO  DE GESTIÓN, PLANIFICACIÓN Y CONTROL"]
["SUBDEPTO. DE ESTADÍSTICAS Y GESTIÓN DE LA INFORMACIÓN "]
["AÑO 2022"]
[]
[null,"INDICADOR 6.4: Índice de Ocupación Dental (IOD) del Servicio de Salud en el periodo."]
[]
[]
[]
[]
[]
[null,"HOSPITAL","NUMERADOR ",{"$nulls":5},"DENOMINADOR",null,"INDICADOR"]
[]
[{"$nulls":3},"Total de consultas nuevas de subespecialidades odontológicas realizadas en el periodo por rendimiento de cada subespecialidad) + (Total de controles de subespecialidades odontológicas realizados en el periodo por rendimiento de cada subespecialidad) + (Total de consultas de urgencia GES y No GES realizados en el periodo por 0,45)]",{"$nulls":4},"Denominador (*) [(Unidades dentales en dotación x 36 x Número de semanas a evaluar en el periodo) x 0,85]}."]
[null,null,"CONSULTAS URGENCIA GES","CONSULTAS URGENCIA NO GES","(CONSULTA URGENCIA GES Y NO GES) * 0.45","CONSULTA NUEVA","CONTROL","TOTAL"]
[]
[]
[null,"HOSPITAL LA SERENA",{"$f":"HLS!$R$17","v":337},{"$f":"HLS!$R$18","v":132},{"$f":"(C19+D19)*0.45","v":{"v":211.05,"d":"211"}},{"$f":"HLS!$R$48","v":5178},{"$f":"HLS!$R$49","v":19253},{"$f":"SUM(E19:G20)","v":{"v":24642.05,"d":"24642"}},null,null,{"$f":"H19/I19","v":{"$error":"#DIV/0!"}}]
[]
[null,"HOSPITAL COQUIMBO",{"$f":"HCQ!$R$17","v":176},{"$f":"HCQ!$R$18","v":220},{"$f":"(C21+D21)*0.45","v":{"v":178.20000000000002,"d":"178"}},{"$f":"HCQ!$R$48","v":3796},{"$f":"HCQ!$R$49","v":12470},{"$f":"SUM(E21:G22)","v":{"v":16444.2,"d":"16444"}},null,null,{"$f":"H21/I21","v":{"$error":"#DIV/0!"}}]
[]
[null,"HOSPITAL OVALLE",{"$f":"HOV!$R$17","v":119},{"$f":"HOV!$R$18","v":310},{"$f":"(C23+D23)*0.45","v":{"v":193.05,"d":"193"}},{"$f":"HOV!$R$48","v":3101},{"$f":"HOV!$R$49","v":10927},{"$f":"SUM(E23:G24)","v":{"v":14221.05,"d":"14221"}},null,null,{"$f":"H23/I23","v":{"$error":"#DIV/0!"}}]
[]
[null,"HOSPITAL ILLAPEL",{"$f":"HILL!$R$17","v":0},{"$f":"HILL!$R$18","v":278},{"$f":"(C25+D25)*0.45","v":{"v":125.10000000000001,"d":"125"}},{"$f":"HILL!$R$48","v":2433},{"$f":"HILL!$R$49","v":8369},{"$f":"SUM(E25:G26)","v":{"v":10927.1,"d":"10927"}},null,null,{"$f":"H25/I25","v":{"$error":"#DIV/0!"}}]
[]
[null,"TOTAL",{"$f":"SUM(C19:C26)","v":632},{"$f":"SUM(D19:D26)","v":940},{"$f":"(C27+D27)*0.45","v":{"v":707.4,"d":"707"}},{"$f":"SUM(F19:F26)","v":14508},51019,{"$f":"SUM(H19:H26)","v":{"v":66234.40000000001,"d":"66234"}},{"$f":"SUM(I19:J26)","v":0},null,{"$f":"H27/I27","v":{"$error":"#DIV/0!"}}]
[]
[]
[null,"Fuente: REM A09, Sección I"]

{"sheet":"Consolidado","index":1,"n_rows":50,"n_cols":18,"rows_kept":50,"merged":[[7,2,10,17],[13,2,15,2],[13,3,15,4],[13,17,15,17],[16,2,17,2],[18,2,19,2],[20,2,21,2],[22,2,23,2],[24,2,25,2],[26,2,27,2],[28,2,29,2],[30,2,31,2],[32,2,33,2],[34,2,35,2],[36,2,37,2],[38,2,39,2],[40,2,41,2],[42,2,43,2],[44,2,45,2],[46,2,48,2],[46,3,46,4],[47,3,47,4],[48,3,48,4]]}
["MINISTERIO DE SALUD"]
["SERVICIO DE SALUD COQUIMBO"]
["DEPARTAMENTO  DE GESTIÓN, PLANIFICACIÓN Y CONTROL"]
["SUBDEPTO. DE ESTADÍSTICAS Y GESTIÓN DE LA INFORMACIÓN "]
["AÑO 2022"]
[]
[]
[null,null,"INDICADOR 6.4: Índice de Ocupación Dental (IOD) del Servicio de Salud en el periodo."]
[]
[]
[]
[]
[]
[null,null,"ESPECIALIDAD Y TIPO DE INGRESO O EGRESO","Región",{"$nulls":13},"TOTAL"]
[{"$nulls":5},"Enero","Febrero","Marzo","Abril","Mayo","Junio","Julio","Agosto","Septiembre","Octubre","Noviembre","Diciembre"]
[]
[null,"09240700","CONSULTAS DE URGENCIA","CONSULTAS GES",null,{"$f":"HLS!F17+HCQ!F17+HOV!F17+HILL!F17","v":61},{"$f":"HLS!G17+HCQ!G17+HOV!G17+HILL!G17","v":56},{"$f":"HLS!H17+HCQ!H17+HOV!H17+HILL!H17","v":71},{"$f":"HLS!I17+HCQ!I17+HOV!I17+HILL!I17","v":65},{"$f":"HLS!J17+HCQ!J17+HOV!J17+HILL!J17","v":78},{"$f":"HLS!K17+HCQ!K17+HOV!K17+HILL!K17","v":33},{"$f":"HLS!L17+HCQ!L17+HOV!L17+HILL!L17","v":33},{"$f":"HLS!M17+HCQ!M17+HOV!M17+HILL!M17","v":83},{"$f":"HLS!N17+HCQ!N17+HOV!N17+HILL!N17","v":27},{"$f":"HLS!O17+HCQ!O17+HOV!O17+HILL!O17","v":50},{"$f":"HLS!P17+HCQ!P17+HOV!P17+HILL!P17","v":47},{"$f":"HLS!Q17+HCQ!Q17+HOV!Q17+HILL!Q17","v":28},{"$f":"SUM(F17:Q17)","v":632}]
[null,"09600325",null,"CONSULTA NO GES",null,{"$f":"HLS!F18+HCQ!F18+HOV!F18+HILL!F18","v":86},{"$f":"HLS!G18+HCQ!G18+HOV!G18+HILL!G18","v":76},{"$f":"HLS!H18+HCQ!H18+HOV!H18+HILL!H18","v":114},{"$f":"HLS!I18+HCQ!I18+HOV!I18+HILL!I18","v":63},{"$f":"HLS!J18+HCQ!J18+HOV!J18+HILL!J18","v":83},{"$f":"HLS!K18+HCQ!K18+HOV!K18+HILL!K18","v":59},{"$f":"HLS!L18+HCQ!L18+HOV!L18+HILL!L18","v":68},{"$f":"HLS!M18+HCQ!M18+HOV!M18+HILL!M18","v":97},{"$f":"HLS!N18+HCQ!N18+HOV!N18+HILL!N18","v":74},{"$f":"HLS!O18+HCQ!O18+HOV!O18+HILL!O18","v":93},{"$f":"HLS!P18+HCQ!P18+HOV!P18+HILL!P18","v":62},{"$f":"HLS!Q18+HCQ!Q18+HOV!Q18+HILL!Q18","v":65},{"$f":"SUM(F18:Q18)","v":940}]
[null,"09600155","CIRUGÍA BUCAL","CONSULTA NUEVA ",null,{"$f":"HLS!F19+HCQ!F19+HOV!F19+HILL!F19","v":29},{"$f":"HLS!G19+HCQ!G19+HOV!G19+HILL!G19","v":28},{"$f":"HLS!H19+HCQ!H19+HOV!H19+HILL!H19","v":47},{"$f":"HLS!I19+HCQ!I19+HOV!I19+HILL!I19","v":27},{"$f":"HLS!J19+HCQ!J19+HOV!J19+HILL!J19","v":61},{"$f":"HLS!K19+HCQ!K19+HOV!K19+HILL!K19","v":49},{"$f":"HLS!L19+HCQ!L19+HOV!L19+HILL!L19","v":43},{"$f":"HLS!M19+HCQ!M19+HOV!M19+HILL!M19","v":36},{"$f":"HLS!N19+HCQ!N19+HOV!N19+HILL!N19","v":57},{"$f":"HLS!O19+HCQ!O19+HOV!O19+HILL!O19","v":87},{"$f":"HLS!P19+HCQ!P19+HOV!P19+HILL!P19","v":78},{"$f":"HLS!Q19+HCQ!Q19+HOV!Q19+HILL!Q19","v":49},591]
[null,"09600156",null,"CONTROL ",null,{"$f":"HLS!F20+HCQ!F20+HOV!F20+HILL!F20","v":106},{"$f":"HLS!G20+HCQ!G20+HOV!G20+HILL!G20","v":95},{"$f":"HLS!H20+HCQ!H20+HOV!H20+HILL!H20","v":120},{"$f":"HLS!I20+HCQ!I20+HOV!I20+HILL!I20","v":59},{"$f":"HLS!J20+HCQ!J20+HOV!J20+HILL!J20","v":140},{"$f":"HLS!K20+HCQ!K20+HOV!K20+HILL!K20","v":135},{"$f":"HLS!L20+HCQ!L20+HOV!L20+HILL!L20","v":117},{"$f":"HLS!M20+HCQ!M20+HOV!M20+HILL!M20","v":169},{"$f":"HLS!N20+HCQ!N20+HOV!N20+HILL!N20","v":106},{"$f":"HLS!O20+HCQ!O20+HOV!O20+HILL!O20","v":170},{"$f":"HLS!P20+HCQ!P20+HOV!P20+HILL!P20","v":186},{"$f":"HLS!Q20+HCQ!Q20+HOV!Q20+HILL!Q20","v":137},1540]
[null,"09600158","CIRUGÍA Y TRAUMATOLOGÍA MAXILOFACIAL","CONSULTA NUEVA ",null,{"$f":"HLS!F21+HCQ!F21+HOV!F21+HILL!F21","v":201},{"$f":"HLS!G21+HCQ!G21+HOV!G21+HILL!G21","v":171},{"$f":"HLS!H21+HCQ!H21+HOV!H21+HILL!H21","v":213},{"$f":"HLS!I21+HCQ!I21+HOV!I21+HILL!I21","v":236},{"$f":"HLS!J21+HCQ!J21+HOV!J21+HILL!J21","v":300},{"$f":"HLS!K21+HCQ!K21+HOV!K21+HILL!K21","v":218},{"$f":"HLS!L21+HCQ!L21+HOV!L21+HILL!L21","v":223},{"$f":"HLS!M21+HCQ!M21+HOV!M21+HILL!M21","v":241},{"$f":"HLS!N21+HCQ!N21+HOV!N21+HILL!N21","v":168},{"$f":"HLS!O21+HCQ!O21+HOV!O21+HILL!O21","v":215},{"$f":"HLS!P21+HCQ!P21+HOV!P21+HILL!P21","v":236},{"$f":"HLS!Q21+HCQ!Q21+HOV!Q21+HILL!Q21","v":229},2651]
[null,"09600159",null,"CONTROL ",null,{"$f":"HLS!F22+HCQ!F22+HOV!F22+HILL!F22","v":477},{"$f":"HLS!G22+HCQ!G22+HOV!G22+HILL!G22","v":443},{"$f":"HLS!H22+HCQ!H22+HOV!H22+HILL!H22","v":517},{"$f":"HLS!I22+HCQ!I22+HOV!I22+HILL!I22","v":585},{"$f":"HLS!J22+HCQ!J22+HOV!J22+HILL!J22","v":578},{"$f":"HLS!K22+HCQ!K22+HOV!K22+HILL!K22","v":519},{"$f":"HLS!L22+HCQ!L22+HOV!L22+HILL!L22","v":457},{"$f":"HLS!M22+HCQ!M22+HOV!M22+HILL!M22","v":513},{"$f":"HLS!N22+HCQ!N22+HOV!N22+HILL!N22","v":368},{"$f":"HLS!O22+HCQ!O22+HOV!O22+HILL!O22","v":566},{"$f":"HLS!P22+HCQ!P22+HOV!P22+HILL!P22","v":536},{"$f":"HLS!Q22+HCQ!Q22+HOV!Q22+HILL!Q22","v":470},6029]
[null,"09600161","ENDODONCIA","CONSULTA NUEVA ",null,{"$f":"HLS!F23+HCQ!F23+HOV!F23+HILL!F23","v":285},{"$f":"HLS!G23+HCQ!G23+HOV!G23+HILL!G23","v":167},{"$f":"HLS!H23+HCQ!H23+HOV!H23+HILL!H23","v":401},{"$f":"HLS!I23+HCQ!I23+HOV!I23+HILL!I23","v":338},{"$f":"HLS!J23+HCQ!J23+HOV!J23+HILL!J23","v":400},{"$f":"HLS!K23+HCQ!K23+HOV!K23+HILL!K23","v":382},{"$f":"HLS!L23+HCQ!L23+HOV!L23+HILL!L23","v":348},{"$f":"HLS!M23+HCQ!M23+HOV!M23+HILL!M23","v":389},{"$f":"HLS!N23+HCQ!N23+HOV!N23+HILL!N23","v":273},{"$f":"HLS!O23+HCQ!O23+HOV!O23+HILL!O23","v":309},{"$f":"HLS!P23+HCQ!P23+HOV!P23+HILL!P23","v":276},{"$f":"HLS!Q23+HCQ!Q23+HOV!Q23+HILL!Q23","v":242},3810]
[null,"09600162",null,"CONTROL ",null,{"$f":"HLS!F24+HCQ!F24+HOV!F24+HILL!F24","v":531},{"$f":"HLS!G24+HCQ!G24+HOV!G24+HILL!G24","v":300},{"$f":"HLS!H24+HCQ!H24+HOV!H24+HILL!H24","v":614},{"$f":"HLS!I24+HCQ!I24+HOV!I24+HILL!I24","v":585},{"$f":"HLS!J24+HCQ!J24+HOV!J24+HILL!J24","v":739},{"$f":"HLS!K24+HCQ!K24+HOV!K24+HILL!K24","v":563},{"$f":"HLS!L24+HCQ!L24+HOV!L24+HILL!L24","v":601},{"$f":"HLS!M24+HCQ!M24+HOV!M24+HILL!M24","v":759},{"$f":"HLS!N24+HCQ!N24+HOV!N24+HILL!N24","v":621},{"$f":"HLS!O24+HCQ!O24+HOV!O24+HILL!O24","v":713},{"$f":"HLS!P24+HCQ!P24+HOV!P24+HILL!P24","v":620},{"$f":"HLS!Q24+HCQ!Q24+HOV!Q24+HILL!Q24","v":598},7244]
[null,"09600164","ODONTOPEDIATRÍA","CONSULTA NUEVA ",null,{"$f":"HLS!F25+HCQ!F25+HOV!F25+HILL!F25","v":111},{"$f":"HLS!G25+HCQ!G25+HOV!G25+HILL!G25","v":57},{"$f":"HLS!H25+HCQ!H25+HOV!H25+HILL!H25","v":123},{"$f":"HLS!I25+HCQ!I25+HOV!I25+HILL!I25","v":104},{"$f":"HLS!J25+HCQ!J25+HOV!J25+HILL!J25","v":137},{"$f":"HLS!K25+HCQ!K25+HOV!K25+HILL!K25","v":118},{"$f":"HLS!L25+HCQ!L25+HOV!L25+HILL!L25","v":94},{"$f":"HLS!M25+HCQ!M25+HOV!M25+HILL!M25","v":150},{"$f":"HLS!N25+HCQ!N25+HOV!N25+HILL!N25","v":111},{"$f":"HLS!O25+HCQ!O25+HOV!O25+HILL!O25","v":91},{"$f":"HLS!P25+HCQ!P25+HOV!P25+HILL!P25","v":121},{"$f":"HLS!Q25+HCQ!Q25+HOV!Q25+HILL!Q25","v":95},1312]
[null,"09600165",null,"CONTROL ",null,{"$f":"HLS!F26+HCQ!F26+HOV!F26+HILL!F26","v":376},{"$f":"HLS!G26+HCQ!G26+HOV!G26+HILL!G26","v":326},{"$f":"HLS!H26+HCQ!H26+HOV!H26+HILL!H26","v":597},{"$f":"HLS!I26+HCQ!I26+HOV!I26+HILL!I26","v":605},{"$f":"HLS!J26+HCQ!J26+HOV!J26+HILL!J26","v":765},{"$f":"HLS!K26+HCQ!K26+HOV!K26+HILL!K26","v":559},{"$f":"HLS!L26+HCQ!L26+HOV!L26+HILL!L26","v":465},{"$f":"HLS!M26+HCQ!M26+HOV!M26+HILL!M26","v":601},{"$f":"HLS!N26+HCQ!N26+HOV!N26+HILL!N26","v":561},{"$f":"HLS!O26+HCQ!O26+HOV!O26+HILL!O26","v":532},{"$f":"HLS!P26+HCQ!P26+HOV!P26+HILL!P26","v":680},{"$f":"HLS!Q26+HCQ!Q26+HOV!Q26+HILL!Q26","v":635},6702]
[null,"09600167","OPERATORIA","CONSULTA NUEVA ",null,{"$f":"HLS!F27+HCQ!F27+HOV!F27+HILL!F27","v":27},{"$f":"HLS!G27+HCQ!G27+HOV!G27+HILL!G27","v":19},{"$f":"HLS!H27+HCQ!H27+HOV!H27+HILL!H27","v":18},{"$f":"HLS!I27+HCQ!I27+HOV!I27+HILL!I27","v":12},{"$f":"HLS!J27+HCQ!J27+HOV!J27+HILL!J27","v":22},{"$f":"HLS!K27+HCQ!K27+HOV!K27+HILL!K27","v":19},{"$f":"HLS!L27+HCQ!L27+HOV!L27+HILL!L27","v":22},{"$f":"HLS!M27+HCQ!M27+HOV!M27+HILL!M27","v":11},{"$f":"HLS!N27+HCQ!N27+HOV!N27+HILL!N27","v":16},{"$f":"HLS!O27+HCQ!O27+HOV!O27+HILL!O27","v":7},{"$f":"HLS!P27+HCQ!P27+HOV!P27+HILL!P27","v":26},{"$f":"HLS!Q27+HCQ!Q27+HOV!Q27+HILL!Q27","v":9},208]
[null,"09600168",null,"CONTROL ",null,{"$f":"HLS!F28+HCQ!F28+HOV!F28+HILL!F28","v":124},{"$f":"HLS!G28+HCQ!G28+HOV!G28+HILL!G28","v":81},{"$f":"HLS!H28+HCQ!H28+HOV!H28+HILL!H28","v":86},{"$f":"HLS!I28+HCQ!I28+HOV!I28+HILL!I28","v":103},{"$f":"HLS!J28+HCQ!J28+HOV!J28+HILL!J28","v":129},{"$f":"HLS!K28+HCQ!K28+HOV!K28+HILL!K28","v":70},{"$f":"HLS!L28+HCQ!L28+HOV!L28+HILL!L28","v":84},{"$f":"HLS!M28+HCQ!M28+HOV!M28+HILL!M28","v":119},{"$f":"HLS!N28+HCQ!N28+HOV!N28+HILL!N28","v":89},{"$f":"HLS!O28+HCQ!O28+HOV!O28+HILL!O28","v":54},{"$f":"HLS!P28+HCQ!P28+HOV!P28+HILL!P28","v":70},{"$f":"HLS!Q28+HCQ!Q28+HOV!Q28+HILL!Q28","v":73},1082]
[null,"09600170","ORTODONCIA Y ORTOPEDIA DENTO MAXILOFACIAL: APARATOLOGÍA FIJA","CONSULTA NUEVA ",null,{"$f":"HLS!F29+HCQ!F29+HOV!F29+HILL!F29","v":92},{"$f":"HLS!G29+HCQ!G29+HOV!G29+HILL!G29","v":51},{"$f":"HLS!H29+HCQ!H29+HOV!H29+HILL!H29","v":96},{"$f":"HLS!I29+HCQ!I29+HOV!I29+HILL!I29","v":95},{"$f":"HLS!J29+HCQ!J29+HOV!J29+HILL!J29","v":102},{"$f":"HLS!K29+HCQ!K29+HOV!K29+HILL!K29","v":92},{"$f":"HLS!L29+HCQ!L29+HOV!L29+HILL!L29","v":87},{"$f":"HLS!M29+HCQ!M29+HOV!M29+HILL!M29","v":57},{"$f":"HLS!N29+HCQ!N29+HOV!N29+HILL!N29","v":124},{"$f":"HLS!O29+HCQ!O29+HOV!O29+HILL!O29","v":78},{"$f":"HLS!P29+HCQ!P29+HOV!P29+HILL!P29","v":141},{"$f":"HLS!Q29+HCQ!Q29+HOV!Q29+HILL!Q29","v":121},1136]
[null,"09600171",null,"CONTROL ",null,{"$f":"HLS!F30+HCQ!F30+HOV!F30+HILL!F30","v":912},{"$f":"HLS!G30+HCQ!G30+HOV!G30+HILL!G30","v":643},{"$f":"HLS!H30+HCQ!H30+HOV!H30+HILL!H30","v":1056},{"$f":"HLS!I30+HCQ!I30+HOV!I30+HILL!I30","v":793},{"$f":"HLS!J30+HCQ!J30+HOV!J30+HILL!J30","v":1015},{"$f":"HLS!K30+HCQ!K30+HOV!K30+HILL!K30","v":835},{"$f":"HLS!L30+HCQ!L30+HOV!L30+HILL!L30","v":671},{"$f":"HLS!M30+HCQ!M30+HOV!M30+HILL!M30","v":1003},{"$f":"HLS!N30+HCQ!N30+HOV!N30+HILL!N30","v":694},{"$f":"HLS!O30+HCQ!O30+HOV!O30+HILL!O30","v":919},{"$f":"HLS!P30+HCQ!P30+HOV!P30+HILL!P30","v":895},{"$f":"HLS!Q30+HCQ!Q30+HOV!Q30+HILL!Q30","v":781},10217]
[null,"09600173","ORTODONCIA Y ORTOPEDIA DENTO MAXILOFACIAL: APARATOLOGÍA REMOVIBLE","CONSULTA NUEVA ",null,{"$f":"HLS!F31+HCQ!F31+HOV!F31+HILL!F31","v":16},{"$f":"HLS!G31+HCQ!G31+HOV!G31+HILL!G31","v":7},{"$f":"HLS!H31+HCQ!H31+HOV!H31+HILL!H31","v":21},{"$f":"HLS!I31+HCQ!I31+HOV!I31+HILL!I31","v":1},{"$f":"HLS!J31+HCQ!J31+HOV!J31+HILL!J31","v":11},{"$f":"HLS!K31+HCQ!K31+HOV!K31+HILL!K31","v":8},{"$f":"HLS!L31+HCQ!L31+HOV!L31+HILL!L31","v":13},{"$f":"HLS!M31+HCQ!M31+HOV!M31+HILL!M31","v":11},{"$f":"HLS!N31+HCQ!N31+HOV!N31+HILL!N31","v":8},{"$f":"HLS!O31+HCQ!O31+HOV!O31+HILL!O31","v":21},{"$f":"HLS!P31+HCQ!P31+HOV!P31+HILL!P31","v":17},{"$f":"HLS!Q31+HCQ!Q31+HOV!Q31+HILL!Q31","v":14},148]
[null,"09600174",null,"CONTROL ",null,{"$f":"HLS!F32+HCQ!F32+HOV!F32+HILL!F32","v":116},{"$f":"HLS!G32+HCQ!G32+HOV!G32+HILL!G32","v":53},{"$f":"HLS!H32+HCQ!H32+HOV!H32+HILL!H32","v":132},{"$f":"HLS!I32+HCQ!I32+HOV!I32+HILL!I32","v":115},{"$f":"HLS!J32+HCQ!J32+HOV!J32+HILL!J32","v":140},{"$f":"HLS!K32+HCQ!K32+HOV!K32+HILL!K32","v":92},{"$f":"HLS!L32+HCQ!L32+HOV!L32+HILL!L32","v":114},{"$f":"HLS!M32+HCQ!M32+HOV!M32+HILL!M32","v":144},{"$f":"HLS!N32+HCQ!N32+HOV!N32+HILL!N32","v":36},{"$f":"HLS!O32+HCQ!O32+HOV!O32+HILL!O32","v":126},{"$f":"HLS!P32+HCQ!P32+HOV!P32+HILL!P32","v":106},{"$f":"HLS!Q32+HCQ!Q32+HOV!Q32+HILL!Q32","v":95},1269]
[null,"09600178","PERIODONCIA","CONSULTA NUEVA ",null,{"$f":"HLS!F33+HCQ!F33+HOV!F33+HILL!F33","v":124},{"$f":"HLS!G33+HCQ!G33+HOV!G33+HILL!G33","v":79},{"$f":"HLS!H33+HCQ!H33+HOV!H33+HILL!H33","v":126},{"$f":"HLS!I33+HCQ!I33+HOV!I33+HILL!I33","v":108},{"$f":"HLS!J33+HCQ!J33+HOV!J33+HILL!J33","v":114},{"$f":"HLS!K33+HCQ!K33+HOV!K33+HILL!K33","v":166},{"$f":"HLS!L33+HCQ!L33+HOV!L33+HILL!L33","v":145},{"$f":"HLS!M33+HCQ!M33+HOV!M33+HILL!M33","v":151},{"$f":"HLS!N33+HCQ!N33+HOV!N33+HILL!N33","v":200},{"$f":"HLS!O33+HCQ!O33+HOV!O33+HILL!O33","v":169},{"$f":"HLS!P33+HCQ!P33+HOV!P33+HILL!P33","v":178},{"$f":"HLS!Q33+HCQ!Q33+HOV!Q33+HILL!Q33","v":138},1698]
[null,"09600179",null,"CONTROL ",null,{"$f":"HLS!F34+HCQ!F34+HOV!F34+HILL!F34","v":399},{"$f":"HLS!G34+HCQ!G34+HOV!G34+HILL!G34","v":198},{"$f":"HLS!H34+HCQ!H34+HOV!H34+HILL!H34","v":478},{"$f":"HLS!I34+HCQ!I34+HOV!I34+HILL!I34","v":398},{"$f":"HLS!J34+HCQ!J34+HOV!J34+HILL!J34","v":457},{"$f":"HLS!K34+HCQ!K34+HOV!K34+HILL!K34","v":388},{"$f":"HLS!L34+HCQ!L34+HOV!L34+HILL!L34","v":312},{"$f":"HLS!M34+HCQ!M34+HOV!M34+HILL!M34","v":473},{"$f":"HLS!N34+HCQ!N34+HOV!N34+HILL!N34","v":382},{"$f":"HLS!O34+HCQ!O34+HOV!O34+HILL!O34","v":412},{"$f":"HLS!P34+HCQ!P34+HOV!P34+HILL!P34","v":367},{"$f":"HLS!Q34+HCQ!Q34+HOV!Q34+HILL!Q34","v":439},4703]
[null,"09600181","REHABILITACIÓN: PRÓTESIS FIJA","CONSULTA NUEVA ",null,{"$f":"HLS!F35+HCQ!F35+HOV!F35+HILL!F35","v":0},{"$f":"HLS!G35+HCQ!G35+HOV!G35+HILL!G35","v":4},{"$f":"HLS!H35+HCQ!H35+HOV!H35+HILL!H35","v":9},{"$f":"HLS!I35+HCQ!I35+HOV!I35+HILL!I35","v":2},{"$f":"HLS!J35+HCQ!J35+HOV!J35+HILL!J35","v":5},{"$f":"HLS!K35+HCQ!K35+HOV!K35+HILL!K35","v":7},{"$f":"HLS!L35+HCQ!L35+HOV!L35+HILL!L35","v":2},{"$f":"HLS!M35+HCQ!M35+HOV!M35+HILL!M35","v":4},{"$f":"HLS!N35+HCQ!N35+HOV!N35+HILL!N35","v":4},{"$f":"HLS!O35+HCQ!O35+HOV!O35+HILL!O35","v":5},{"$f":"HLS!P35+HCQ!P35+HOV!P35+HILL!P35","v":5},{"$f":"HLS!Q35+HCQ!Q35+HOV!Q35+HILL!Q35","v":3},50]
[null,"09600182",null,"CONTROL ",null,{"$f":"HLS!F36+HCQ!F36+HOV!F36+HILL!F36","v":12},{"$f":"HLS!G36+HCQ!G36+HOV!G36+HILL!G36","v":15},{"$f":"HLS!H36+HCQ!H36+HOV!H36+HILL!H36","v":17},{"$f":"HLS!I36+HCQ!I36+HOV!I36+HILL!I36","v":11},{"$f":"HLS!J36+HCQ!J36+HOV!J36+HILL!J36","v":19},{"$f":"HLS!K36+HCQ!K36+HOV!K36+HILL!K36","v":12},{"$f":"HLS!L36+HCQ!L36+HOV!L36+HILL!L36","v":11},{"$f":"HLS!M36+HCQ!M36+HOV!M36+HILL!M36","v":28},{"$f":"HLS!N36+HCQ!N36+HOV!N36+HILL!N36","v":22},{"$f":"HLS!O36+HCQ!O36+HOV!O36+HILL!O36","v":10},{"$f":"HLS!P36+HCQ!P36+HOV!P36+HILL!P36","v":16},{"$f":"HLS!Q36+HCQ!Q36+HOV!Q36+HILL!Q36","v":23},196]
[null,"09600184","REHABILITACIÓN: PRÓTESIS REMOVIBLE","CONSULTA NUEVA ",null,{"$f":"HLS!F37+HCQ!F37+HOV!F37+HILL!F37","v":212},{"$f":"HLS!G37+HCQ!G37+HOV!G37+HILL!G37","v":133},{"$f":"HLS!H37+HCQ!H37+HOV!H37+HILL!H37","v":207},{"$f":"HLS!I37+HCQ!I37+HOV!I37+HILL!I37","v":197},{"$f":"HLS!J37+HCQ!J37+HOV!J37+HILL!J37","v":164},{"$f":"HLS!K37+HCQ!K37+HOV!K37+HILL!K37","v":190},{"$f":"HLS!L37+HCQ!L37+HOV!L37+HILL!L37","v":162},{"$f":"HLS!M37+HCQ!M37+HOV!M37+HILL!M37","v":124},{"$f":"HLS!N37+HCQ!N37+HOV!N37+HILL!N37","v":109},{"$f":"HLS!O37+HCQ!O37+HOV!O37+HILL!O37","v":196},{"$f":"HLS!P37+HCQ!P37+HOV!P37+HILL!P37","v":237},{"$f":"HLS!Q37+HCQ!Q37+HOV!Q37+HILL!Q37","v":128},2059]
[null,"09600185",null,"CONTROL ",null,{"$f":"HLS!F38+HCQ!F38+HOV!F38+HILL!F38","v":1037},{"$f":"HLS!G38+HCQ!G38+HOV!G38+HILL!G38","v":586},{"$f":"HLS!H38+HCQ!H38+HOV!H38+HILL!H38","v":982},{"$f":"HLS!I38+HCQ!I38+HOV!I38+HILL!I38","v":994},{"$f":"HLS!J38+HCQ!J38+HOV!J38+HILL!J38","v":831},{"$f":"HLS!K38+HCQ!K38+HOV!K38+HILL!K38","v":610},{"$f":"HLS!L38+HCQ!L38+HOV!L38+HILL!L38","v":508},{"$f":"HLS!M38+HCQ!M38+HOV!M38+HILL!M38","v":904},{"$f":"HLS!N38+HCQ!N38+HOV!N38+HILL!N38","v":609},{"$f":"HLS!O38+HCQ!O38+HOV!O38+HILL!O38","v":538},{"$f":"HLS!P38+HCQ!P38+HOV!P38+HILL!P38","v":595},{"$f":"HLS!Q38+HCQ!Q38+HOV!Q38+HILL!Q38","v":500},8694]
[null,"09600187","REHABILITACIÓN: PRÓTESIS IMPLANTOASISTIDA","CONSULTA NUEVA ",null,{"$f":"HLS!F39+HCQ!F39+HOV!F39+HILL!F39","v":4},{"$f":"HLS!G39+HCQ!G39+HOV!G39+HILL!G39","v":0},{"$f":"HLS!H39+HCQ!H39+HOV!H39+HILL!H39","v":9},{"$f":"HLS!I39+HCQ!I39+HOV!I39+HILL!I39","v":5},{"$f":"HLS!J39+HCQ!J39+HOV!J39+HILL!J39","v":6},{"$f":"HLS!K39+HCQ!K39+HOV!K39+HILL!K39","v":31},{"$f":"HLS!L39+HCQ!L39+HOV!L39+HILL!L39","v":29},{"$f":"HLS!M39+HCQ!M39+HOV!M39+HILL!M39","v":32},{"$f":"HLS!N39+HCQ!N39+HOV!N39+HILL!N39","v":31},{"$f":"HLS!O39+HCQ!O39+HOV!O39+HILL!O39","v":30},{"$f":"HLS!P39+HCQ!P39+HOV!P39+HILL!P39","v":37},{"$f":"HLS!Q39+HCQ!Q39+HOV!Q39+HILL!Q39","v":17},231]
[null,"09600188",null,"CONTROL ",null,{"$f":"HLS!F40+HCQ!F40+HOV!F40+HILL!F40","v":34},{"$f":"HLS!G40+HCQ!G40+HOV!G40+HILL!G40","v":23},{"$f":"HLS!H40+HCQ!H40+HOV!H40+HILL!H40","v":47},{"$f":"HLS!I40+HCQ!I40+HOV!I40+HILL!I40","v":52},{"$f":"HLS!J40+HCQ!J40+HOV!J40+HILL!J40","v":54},{"$f":"HLS!K40+HCQ!K40+HOV!K40+HILL!K40","v":101},{"$f":"HLS!L40+HCQ!L40+HOV!L40+HILL!L40","v":79},{"$f":"HLS!M40+HCQ!M40+HOV!M40+HILL!M40","v":107},{"$f":"HLS!N40+HCQ!N40+HOV!N40+HILL!N40","v":90},{"$f":"HLS!O40+HCQ!O40+HOV!O40+HILL!O40","v":86},{"$f":"HLS!P40+HCQ!P40+HOV!P40+HILL!P40","v":100},{"$f":"HLS!Q40+HCQ!Q40+HOV!Q40+HILL!Q40","v":93},866]
[null,"09600192","IMPLANTOLOGÍA BUCO MAXILOFACIAL","CONSULTA NUEVA ",null,{"$f":"HLS!F41+HCQ!F41+HOV!F41+HILL!F41","v":29},{"$f":"HLS!G41+HCQ!G41+HOV!G41+HILL!G41","v":14},{"$f":"HLS!H41+HCQ!H41+HOV!H41+HILL!H41","v":47},{"$f":"HLS!I41+HCQ!I41+HOV!I41+HILL!I41","v":29},{"$f":"HLS!J41+HCQ!J41+HOV!J41+HILL!J41","v":33},{"$f":"HLS!K41+HCQ!K41+HOV!K41+HILL!K41","v":20},{"$f":"HLS!L41+HCQ!L41+HOV!L41+HILL!L41","v":1},{"$f":"HLS!M41+HCQ!M41+HOV!M41+HILL!M41","v":3},{"$f":"HLS!N41+HCQ!N41+HOV!N41+HILL!N41","v":2},{"$f":"HLS!O41+HCQ!O41+HOV!O41+HILL!O41","v":6},{"$f":"HLS!P41+HCQ!P41+HOV!P41+HILL!P41","v":1},{"$f":"HLS!Q41+HCQ!Q41+HOV!Q41+HILL!Q41","v":2},187]
[null,"09600193",null,"CONTROL ",null,{"$f":"HLS!F42+HCQ!F42+HOV!F42+HILL!F42","v":83},{"$f":"HLS!G42+HCQ!G42+HOV!G42+HILL!G42","v":31},{"$f":"HLS!H42+HCQ!H42+HOV!H42+HILL!H42","v":130},{"$f":"HLS!I42+HCQ!I42+HOV!I42+HILL!I42","v":117},{"$f":"HLS!J42+HCQ!J42+HOV!J42+HILL!J42","v":122},{"$f":"HLS!K42+HCQ!K42+HOV!K42+HILL!K42","v":26},{"$f":"HLS!L42+HCQ!L42+HOV!L42+HILL!L42","v":7},{"$f":"HLS!M42+HCQ!M42+HOV!M42+HILL!M42","v":35},{"$f":"HLS!N42+HCQ!N42+HOV!N42+HILL!N42","v":26},{"$f":"HLS!O42+HCQ!O42+HOV!O42+HILL!O42","v":16},{"$f":"HLS!P42+HCQ!P42+HOV!P42+HILL!P42","v":23},{"$f":"HLS!Q42+HCQ!Q42+HOV!Q42+HILL!Q42","v":31},647]
[null,"09600195","PATOLOGÍA ORAL","CONSULTA NUEVA ",null,{"$f":"HLS!F43+HCQ!F43+HOV!F43+HILL!F43","v":0},{"$f":"HLS!G43+HCQ!G43+HOV!G43+HILL!G43","v":0},{"$f":"HLS!H43+HCQ!H43+HOV!H43+HILL!H43","v":0},{"$f":"HLS!I43+HCQ!I43+HOV!I43+HILL!I43","v":0},{"$f":"HLS!J43+HCQ!J43+HOV!J43+HILL!J43","v":0},{"$f":"HLS!K43+HCQ!K43+HOV!K43+HILL!K43","v":0},{"$f":"HLS!L43+HCQ!L43+HOV!L43+HILL!L43","v":0},{"$f":"HLS!M43+HCQ!M43+HOV!M43+HILL!M43","v":0},{"$f":"HLS!N43+HCQ!N43+HOV!N43+HILL!N43","v":0},{"$f":"HLS!O43+HCQ!O43+HOV!O43+HILL!O43","v":0},{"$f":"HLS!P43+HCQ!P43+HOV!P43+HILL!P43","v":15},{"$f":"HLS!Q43+HCQ!Q43+HOV!Q43+HILL!Q43","v":8},23]
[null,"09600196",null,"CONTROL ",null,{"$f":"HLS!F44+HCQ!F44+HOV!F44+HILL!F44","v":0},{"$f":"HLS!G44+HCQ!G44+HOV!G44+HILL!G44","v":0},{"$f":"HLS!H44+HCQ!H44+HOV!H44+HILL!H44","v":0},{"$f":"HLS!I44+HCQ!I44+HOV!I44+HILL!I44","v":0},{"$f":"HLS!J44+HCQ!J44+HOV!J44+HILL!J44","v":0},{"$f":"HLS!K44+HCQ!K44+HOV!K44+HILL!K44","v":0},{"$f":"HLS!L44+HCQ!L44+HOV!L44+HILL!L44","v":0},{"$f":"HLS!M44+HCQ!M44+HOV!M44+HILL!M44","v":0},{"$f":"HLS!N44+HCQ!N44+HOV!N44+HILL!N44","v":0},{"$f":"HLS!O44+HCQ!O44+HOV!O44+HILL!O44","v":0},{"$f":"HLS!P44+HCQ!P44+HOV!P44+HILL!P44","v":13},{"$f":"HLS!Q44+HCQ!Q44+HOV!Q44+HILL!Q44","v":3},16]
[null,"09600198","TRASTORNOS TEMPOROMANDIBULARES Y DOLOR OROFACIAL","CONSULTA NUEVA ",null,{"$f":"HLS!F45+HCQ!F45+HOV!F45+HILL!F45","v":35},{"$f":"HLS!G45+HCQ!G45+HOV!G45+HILL!G45","v":22},{"$f":"HLS!H45+HCQ!H45+HOV!H45+HILL!H45","v":34},{"$f":"HLS!I45+HCQ!I45+HOV!I45+HILL!I45","v":46},{"$f":"HLS!J45+HCQ!J45+HOV!J45+HILL!J45","v":44},{"$f":"HLS!K45+HCQ!K45+HOV!K45+HILL!K45","v":56},{"$f":"HLS!L45+HCQ!L45+HOV!L45+HILL!L45","v":27},{"$f":"HLS!M45+HCQ!M45+HOV!M45+HILL!M45","v":30},{"$f":"HLS!N45+HCQ!N45+HOV!N45+HILL!N45","v":31},{"$f":"HLS!O45+HCQ!O45+HOV!O45+HILL!O45","v":33},{"$f":"HLS!P45+HCQ!P45+HOV!P45+HILL!P45","v":22},{"$f":"HLS!Q45+HCQ!Q45+HOV!Q45+HILL!Q45","v":24},404]
[null,"09600199",null,"CONTROL ",null,{"$f":"HLS!F46+HCQ!F46+HOV!F46+HILL!F46","v":218},{"$f":"HLS!G46+HCQ!G46+HOV!G46+HILL!G46","v":119},{"$f":"HLS!H46+HCQ!H46+HOV!H46+HILL!H46","v":161},{"$f":"HLS!I46+HCQ!I46+HOV!I46+HILL!I46","v":171},{"$f":"HLS!J46+HCQ!J46+HOV!J46+HILL!J46","v":181},{"$f":"HLS!K46+HCQ!K46+HOV!K46+HILL!K46","v":178},{"$f":"HLS!L46+HCQ!L46+HOV!L46+HILL!L46","v":128},{"$f":"HLS!M46+HCQ!M46+HOV!M46+HILL!M46","v":139},{"$f":"HLS!N46+HCQ!N46+HOV!N46+HILL!N46","v":158},{"$f":"HLS!O46+HCQ!O46+HOV!O46+HILL!O46","v":129},{"$f":"HLS!P46+HCQ!P46+HOV!P46+HILL!P46","v":128},{"$f":"HLS!Q46+HCQ!Q46+HOV!Q46+HILL!Q46","v":104},1814]
[null,null,"TOTAL","URGENCIA",null,{"$f":"SUM(F17:F18)","v":147},{"$f":"SUM(G17:G18)","v":132},185,128,161,92,101,180,101,143,109,93,{"$f":"SUM(F47:Q47)","v":1572}]
[{"$nulls":3},"CONSULTA NUEVA ",null,{"$f":"SUM(F19,F21,F23,F25,F27,F29,F31,F33,F35,F37,F39,F41,F43,F45)","v":1165},{"$f":"SUM(G19,G21,G23,G25,G27,G29,G31,G33,G35,G37,G39,G41,G43,G45)","v":752},1351,1200,1399,1356,1196,1239,1134,1247,1390,1079,{"$f":"SUM(F48:Q48)","v":14508}]
[{"$nulls":3},"CONTROL ",null,{"$f":"SUM(F20,F22,F24,F26,F28,F30,F32,F34,F36,F38,F40,F42,F44,F46)","v":4425},2913,4937,4588,5170,4088,3554,4994,3762,4271,4335,3982,51019]
[null,null,"Fuente: REM A09, Sección I"]

{"sheet":"HLS","index":2,"n_rows":50,"n_cols":18,"rows_kept":50,"merged":[[7,2,10,17],[13,2,15,2],[13,3,15,4],[13,17,15,17],[16,2,17,2],[18,2,19,2],[20,2,21,2],[22,2,23,2],[24,2,25,2],[26,2,27,2],[28,2,29,2],[30,2,31,2],[32,2,33,2],[34,2,35,2],[36,2,37,2],[38,2,39,2],[40,2,41,2],[42,2,43,2],[44,2,45,2],[46,2,48,2],[46,3,46,4],[47,3,47,4],[48,3,48,4]]}
["MINISTERIO DE SALUD"]
["SERVICIO DE SALUD COQUIMBO"]
["DEPARTAMENTO  DE GESTIÓN, PLANIFICACIÓN Y CONTROL"]
["SUBDEPTO. DE ESTADÍSTICAS Y GESTIÓN DE LA INFORMACIÓN "]
["AÑO 2022"]
[]
[]
[null,null,"INDICADOR 6.4: Índice de Ocupación Dental (IOD) del Servicio de Salud en el periodo."]
[]
[]
[]
[]
[]
[null,null,"ESPECIALIDAD Y TIPO DE INGRESO O EGRESO","Hospital de La Serena",{"$nulls":13},"TOTAL"]
[{"$nulls":5},"Enero","Febrero","Marzo","Abril","Mayo","Junio","Julio","Agosto","Septiembre","Octubre","Noviembre","Diciembre"]
[]
[null,"09240700","CONSULTAS DE URGENCIA","CONSULTAS GES",null,48,36,37,41,38,10,18,37,17,22,22,11,{"$f":"SUM(F17:Q17)","v":337}]
[null,"09600325",null,"CONSULTA NO GES",null,27,14,16,12,11,1,12,17,2,11,3,6,{"$f":"SUM(F18:Q18)","v":132}]
[null,"09600155","CIRUGÍA BUCAL","CONSULTA NUEVA ",null,16,24,25,7,36,39,36,11,45,59,59,35,392]
[null,"09600156",null,"CONTROL ",null,75,92,75,25,89,93,104,132,76,92,118,55,1026]
[null,"09600158","CIRUGÍA Y TRAUMATOLOGÍA MAXILOFACIAL","CONSULTA NUEVA ",null,45,55,53,52,61,65,42,50,67,90,90,73,743]
[null,"09600159",null,"CONTROL ",null,120,151,210,229,193,193,136,165,140,201,208,252,2198]
[null,"09600161","ENDODONCIA","CONSULTA NUEVA ",null,112,88,175,124,128,139,146,104,84,82,85,66,1333]
[null,"09600162",null,"CONTROL ",null,189,153,251,172,246,180,216,223,187,226,198,190,2431]
[null,"09600164","ODONTOPEDIATRÍA","CONSULTA NUEVA ",null,70,30,48,48,49,42,55,36,32,44,42,35,531]
[null,"09600165",null,"CONTROL ",null,227,139,226,189,225,176,233,187,191,192,248,245,2478]
[null,"09600167","OPERATORIA","CONSULTA NUEVA ",null,11,5,9,6,11,15,7,6,8,6,14,4,102]
[null,"09600168",null,"CONTROL ",null,52,17,35,32,50,30,20,41,30,25,26,15,373]
[null,"09600170","ORTODONCIA Y ORTOPEDIA DENTO MAXILOFACIAL: APARATOLOGÍA FIJA","CONSULTA NUEVA ",null,31,12,42,38,52,52,68,10,0,0,43,57,405]
[null,"09600171",null,"CONTROL ",null,216,110,309,260,327,196,345,364,82,303,292,336,3140]
[null,"09600173","ORTODONCIA Y ORTOPEDIA DENTO MAXILOFACIAL: APARATOLOGÍA REMOVIBLE","CONSULTA NUEVA ",null,14,3,10,1,8,7,10,1,0,0,16,13,83]
[null,"09600174",null,"CONTROL ",null,101,38,117,105,129,73,104,126,27,116,93,85,1114]
[null,"09600178","PERIODONCIA","CONSULTA NUEVA ",null,40,43,46,33,42,102,68,66,62,81,69,56,708]
[null,"09600179",null,"CONTROL ",null,181,112,214,105,158,170,118,201,131,148,158,129,1825]
[null,"09600181","REHABILITACIÓN: PRÓTESIS FIJA","CONSULTA NUEVA ",null,0,4,9,2,4,6,1,0,2,5,5,0,38]
[null,"09600182",null,"CONTROL ",null,7,4,10,6,10,5,5,11,10,6,8,8,90]
[null,"09600184","REHABILITACIÓN: PRÓTESIS REMOVIBLE","CONSULTA NUEVA ",null,62,40,63,53,54,92,65,24,25,34,78,28,618]
[null,"09600185",null,"CONTROL ",null,337,203,367,406,376,264,179,464,364,287,292,166,3705]
[null,"09600187","REHABILITACIÓN: PRÓTESIS IMPLANTOASISTIDA","CONSULTA NUEVA ",null,2,0,4,2,3,0,1,5,2,1,0,0,20]
[null,"09600188",null,"CONTROL ",null,27,11,28,32,33,16,3,20,14,4,14,11,213]
[null,"09600192","IMPLANTOLOGÍA BUCO MAXILOFACIAL","CONSULTA NUEVA ",null,14,2,14,10,14,17,1,0,2,0,0,0,74]
[null,"09600193",null,"CONTROL ",null,38,3,29,17,19,18,4,19,22,5,18,25,217]
[null,"09600195","PATOLOGÍA ORAL","CONSULTA NUEVA ",null,0,0,0,0,0,0,0,0,0,0,15,8,23]
[null,"09600196",null,"CONTROL ",null,0,0,0,0,0,0,0,0,0,0,13,3,16]
[null,"09600198","TRASTORNOS TEMPOROMANDIBULARES Y DOLOR OROFACIAL","CONSULTA NUEVA ",null,6,8,10,10,7,15,7,11,12,14,2,6,108]
[null,"09600199",null,"CONTROL ",null,36,31,38,45,46,52,34,37,41,30,20,17,427]
[null,null,"TOTAL","URGENCIA",null,{"$f":"SUM(F17:F18)","v":75},{"$f":"SUM(G17:G18)","v":50},53,53,49,11,30,54,19,33,25,17,{"$f":"SUM(F47:Q47)","v":469}]
[{"$nulls":3},"CONSULTA NUEVA ",null,{"$f":"SUM(F19,F21,F23,F25,F27,F29,F31,F33,F35,F37,F39,F41,F43,F45)","v":423},{"$f":"SUM(G19,G21,G23,G25,G27,G29,G31,G33,G35,G37,G39,G41,G43,G45)","v":314},508,386,469,591,507,324,341,416,518,381,{"$f":"SUM(F48:Q48)","v":5178}]
[{"$nulls":3},"CONTROL ",null,{"$f":"SUM(F20,F22,F24,F26,F28,F30,F32,F34,F36,F38,F40,F42,F44,F46)","v":1606},{"$f":"SUM(G20,G22,G24,G26,G28,G30,G32,G34,G36,G38,G40,G42,G44,G46)","v":1064},1909,1623,1901,1466,1501,1990,1315,1635,1706,1537,19253]
[null,null,"Fuente: REM A09, Sección I"]

{"sheet":"HCQ","index":3,"n_rows":50,"n_cols":18,"rows_kept":50,"merged":[[7,2,10,17],[13,2,15,2],[13,3,15,4],[13,17,15,17],[16,2,17,2],[18,2,19,2],[20,2,21,2],[22,2,23,2],[24,2,25,2],[26,2,27,2],[28,2,29,2],[30,2,31,2],[32,2,33,2],[34,2,35,2],[36,2,37,2],[38,2,39,2],[40,2,41,2],[42,2,43,2],[44,2,45,2],[46,2,48,2],[46,3,46,4],[47,3,47,4],[48,3,48,4]]}
["MINISTERIO DE SALUD"]
["SERVICIO DE SALUD COQUIMBO"]
["DEPARTAMENTO  DE GESTIÓN, PLANIFICACIÓN Y CONTROL"]
["SUBDEPTO. DE ESTADÍSTICAS Y GESTIÓN DE LA INFORMACIÓN "]
["AÑO 2022"]
[]
[]
[null,null,"INDICADOR 6.4: Índice de Ocupación Dental (IOD) del Servicio de Salud en el periodo."]
[]
[]
[]
[]
[]
[null,null,"ESPECIALIDAD Y TIPO DE INGRESO O EGRESO","Hospital de Coquimbo",{"$nulls":13},"TOTAL"]
[{"$nulls":5},"Enero","Febrero","Marzo","Abril","Mayo","Junio","Julio","Agosto","Septiembre","Octubre","Noviembre","Diciembre"]
[]
[null,"09240700","CONSULTAS DE URGENCIA","CONSULTAS GES",null,3,14,19,11,23,14,8,33,6,17,19,9,{"$f":"SUM(F17:Q17)","v":176}]
[null,"09600325",null,"CONSULTA NO GES",null,17,14,37,8,19,17,21,18,10,38,14,7,{"$f":"SUM(F18:Q18)","v":220}]
[null,"09600155","CIRUGÍA BUCAL","CONSULTA NUEVA ",null,0,0,0,0,0,0,0,0,0,0,0,0,0]
[null,"09600156",null,"CONTROL ",null,0,0,1,0,0,0,0,0,0,0,0,0,1]
[null,"09600158","CIRUGÍA Y TRAUMATOLOGÍA MAXILOFACIAL","CONSULTA NUEVA ",null,100,76,78,118,126,83,89,88,41,76,72,103,1050]
[null,"09600159",null,"CONTROL ",null,150,130,45,93,113,104,75,130,57,97,109,58,1161]
[null,"09600161","ENDODONCIA","CONSULTA NUEVA ",null,81,19,81,80,63,57,46,56,36,40,44,37,640]
[null,"09600162",null,"CONTROL ",null,183,49,148,160,157,107,100,156,131,121,100,82,1494]
[null,"09600164","ODONTOPEDIATRÍA","CONSULTA NUEVA ",null,27,10,38,21,29,25,13,35,27,11,30,19,285]
[null,"09600165",null,"CONTROL ",null,0,59,133,106,172,121,70,165,109,104,122,116,1277]
[null,"09600167","OPERATORIA","CONSULTA NUEVA ",null,0,0,0,1,1,0,0,0,1,1,3,0,7]
[null,"09600168",null,"CONTROL ",null,4,0,0,7,9,7,6,3,7,6,3,0,52]
[null,"09600170","ORTODONCIA Y ORTOPEDIA DENTO MAXILOFACIAL: APARATOLOGÍA FIJA","CONSULTA NUEVA ",null,39,22,43,37,31,20,3,15,27,26,27,15,305]
[null,"09600171",null,"CONTROL ",null,330,180,343,279,321,248,48,167,297,293,266,145,2917]
[null,"09600173","ORTODONCIA Y ORTOPEDIA DENTO MAXILOFACIAL: APARATOLOGÍA REMOVIBLE","CONSULTA NUEVA ",null,0,0,0,0,0,0,0,0,0,0,0,0,0]
[null,"09600174",null,"CONTROL ",null,0,0,0,0,0,0,0,0,0,0,0,0,0]
[null,"09600178","PERIODONCIA","CONSULTA NUEVA ",null,24,15,24,28,23,16,22,31,37,32,21,33,306]
[null,"09600179",null,"CONTROL ",null,61,43,76,76,81,77,52,71,52,74,56,58,777]
[null,"09600181","REHABILITACIÓN: PRÓTESIS FIJA","CONSULTA NUEVA ",null,0,0,0,0,0,0,0,0,0,0,0,0,0]
[null,"09600182",null,"CONTROL ",null,0,0,0,0,0,0,0,0,0,0,0,0,0]
[null,"09600184","REHABILITACIÓN: PRÓTESIS REMOVIBLE","CONSULTA NUEVA ",null,85,21,87,68,51,57,55,39,45,52,37,40,637]
[null,"09600185",null,"CONTROL ",null,489,229,386,325,211,157,148,166,105,144,136,135,2631]
[null,"09600187","REHABILITACIÓN: PRÓTESIS IMPLANTOASISTIDA","CONSULTA NUEVA ",null,0,0,0,0,0,28,26,24,27,27,32,15,179]
[null,"09600188",null,"CONTROL ",null,0,0,0,0,0,70,68,72,62,54,61,53,440]
[null,"09600192","IMPLANTOLOGÍA BUCO MAXILOFACIAL","CONSULTA NUEVA ",null,12,12,32,15,16,0,0,0,0,3,0,1,91]
[null,"09600193",null,"CONTROL ",null,28,27,95,94,89,0,0,0,0,0,0,0,333]
[null,"09600195","PATOLOGÍA ORAL","CONSULTA NUEVA ",null,0,0,0,0,0,0,0,0,0,0,0,0,0]
[null,"09600196",null,"CONTROL ",null,0,0,0,0,0,0,0,0,0,0,0,0,0]
[null,"09600198","TRASTORNOS TEMPOROMANDIBULARES Y DOLOR OROFACIAL","CONSULTA NUEVA ",null,29,14,24,36,37,41,20,19,19,19,20,18,296]
[null,"09600199",null,"CONTROL ",null,182,88,123,126,135,126,94,102,117,99,108,87,1387]
[null,null,"TOTAL","URGENCIA",null,{"$f":"SUM(F17:F18)","v":20},{"$f":"SUM(G17:G18)","v":28},56,19,42,31,29,51,16,55,33,16,{"$f":"SUM(F47:Q47)","v":396}]
[{"$nulls":3},"CONSULTA NUEVA ",null,{"$f":"SUM(F19,F21,F23,F25,F27,F29,F31,F33,F35,F37,F39,F41,F43,F45)","v":397},{"$f":"SUM(G19,G21,G23,G25,G27,G29,G31,G33,G35,G37,G39,G41,G43,G45)","v":189},407,404,377,327,274,307,260,287,286,281,{"$f":"SUM(F48:Q48)","v":3796}]
[{"$nulls":3},"CONTROL ",null,{"$f":"SUM(F20,F22,F24,F26,F28,F30,F32,F34,F36,F38,F40,F42,F44,F46)","v":1427},805,1350,1266,1288,1017,661,1032,937,992,961,734,12470]
[null,null,"Fuente: REM A09, Sección I"]

{"sheet":"HOV","index":4,"n_rows":50,"n_cols":18,"rows_kept":50,"merged":[[7,2,10,17],[13,2,15,2],[13,3,15,4],[13,17,15,17],[16,2,17,2],[18,2,19,2],[20,2,21,2],[22,2,23,2],[24,2,25,2],[26,2,27,2],[28,2,29,2],[30,2,31,2],[32,2,33,2],[34,2,35,2],[36,2,37,2],[38,2,39,2],[40,2,41,2],[42,2,43,2],[44,2,45,2],[46,2,48,2],[46,3,46,4],[47,3,47,4],[48,3,48,4]]}
["MINISTERIO DE SALUD"]
["SERVICIO DE SALUD COQUIMBO"]
["DEPARTAMENTO  DE GESTIÓN, PLANIFICACIÓN Y CONTROL"]
["SUBDEPTO. DE ESTADÍSTICAS Y GESTIÓN DE LA INFORMACIÓN "]
["AÑO 2022"]
[]
[]
[null,null,"INDICADOR 6.4: Índice de Ocupación Dental (IOD) del Servicio de Salud en el periodo."]
[]
[]
[]
[]
[]
[null,null,"ESPECIALIDAD Y TIPO DE INGRESO O EGRESO","Hospital de Ovalle",{"$nulls":13},"TOTAL"]
[{"$nulls":5},"Enero","Febrero","Marzo","Abril","Mayo","Junio","Julio","Agosto","Septiembre","Octubre","Noviembre","Diciembre"]
[]
[null,"09240700","CONSULTAS DE URGENCIA","CONSULTAS GES",null,10,6,15,13,17,9,7,13,4,11,6,8,{"$f":"SUM(F17:Q17)","v":119}]
[null,"09600325",null,"CONSULTA NO GES",null,36,16,37,25,25,24,21,29,16,24,30,27,{"$f":"SUM(F18:Q18)","v":310}]
[null,"09600155","CIRUGÍA BUCAL","CONSULTA NUEVA ",null,13,4,22,20,25,10,7,25,12,28,19,14,199]
[null,"09600156",null,"CONTROL ",null,31,3,44,34,51,42,13,37,30,78,68,82,513]
[null,"09600158","CIRUGÍA Y TRAUMATOLOGÍA MAXILOFACIAL","CONSULTA NUEVA ",null,38,28,68,40,58,42,47,21,29,23,33,37,464]
[null,"09600159",null,"CONTROL ",null,85,64,176,137,142,94,143,100,88,90,92,116,1327]
[null,"09600161","ENDODONCIA","CONSULTA NUEVA ",null,47,16,115,81,125,107,86,128,105,115,93,96,1114]
[null,"09600162",null,"CONTROL ",null,71,28,164,148,217,158,163,225,183,224,212,214,2007]
[null,"09600164","ODONTOPEDIATRÍA","CONSULTA NUEVA ",null,8,6,19,23,28,24,10,29,19,24,23,30,243]
[null,"09600165",null,"CONTROL ",null,38,32,120,121,127,101,58,141,93,141,141,142,1255]
[null,"09600167","OPERATORIA","CONSULTA NUEVA ",null,16,14,9,5,10,4,15,5,7,0,9,5,99]
[null,"09600168",null,"CONTROL ",null,68,64,51,64,70,33,58,75,52,23,41,58,657]
[null,"09600170","ORTODONCIA Y ORTOPEDIA DENTO MAXILOFACIAL: APARATOLOGÍA FIJA","CONSULTA NUEVA ",null,12,17,7,20,10,19,15,15,13,11,10,15,164]
[null,"09600171",null,"CONTROL ",null,95,142,166,161,158,183,97,208,168,165,179,190,1912]
[null,"09600173","ORTODONCIA Y ORTOPEDIA DENTO MAXILOFACIAL: APARATOLOGÍA REMOVIBLE","CONSULTA NUEVA ",null,1,0,0,0,0,1,2,1,0,2,1,1,9]
[null,"09600174",null,"CONTROL ",null,8,9,10,9,6,9,5,11,4,7,7,9,94]
[null,"09600178","PERIODONCIA","CONSULTA NUEVA ",null,21,3,10,34,36,18,29,29,34,31,29,39,313]
[null,"09600179",null,"CONTROL ",null,48,12,21,84,107,74,74,103,105,103,68,86,885]
[null,"09600181","REHABILITACIÓN: PRÓTESIS FIJA","CONSULTA NUEVA ",null,0,0,0,0,1,1,1,4,2,0,0,3,12]
[null,"09600182",null,"CONTROL ",null,5,11,7,5,9,7,6,17,12,4,8,15,106]
[null,"09600184","REHABILITACIÓN: PRÓTESIS REMOVIBLE","CONSULTA NUEVA ",null,43,56,35,58,41,35,27,38,25,20,20,32,430]
[null,"09600185",null,"CONTROL ",null,156,115,162,207,213,161,134,201,122,87,126,177,1861]
[null,"09600187","REHABILITACIÓN: PRÓTESIS IMPLANTOASISTIDA","CONSULTA NUEVA ",null,2,0,5,3,3,3,2,3,2,2,5,2,32]
[null,"09600188",null,"CONTROL ",null,7,12,19,20,21,15,8,15,14,28,25,29,213]
[null,"09600192","IMPLANTOLOGÍA BUCO MAXILOFACIAL","CONSULTA NUEVA ",null,3,0,1,4,3,3,0,3,0,3,1,1,22]
[null,"09600193",null,"CONTROL ",null,17,1,6,6,14,8,3,16,4,11,5,6,97]
[null,"09600195","PATOLOGÍA ORAL","CONSULTA NUEVA ",null,0,0,0,0,0,0,0,0,0,0,0,0,0]
[null,"09600196",null,"CONTROL ",null,0,0,0,0,0,0,0,0,0,0,0,0,0]
[null,"09600198","TRASTORNOS TEMPOROMANDIBULARES Y DOLOR OROFACIAL","CONSULTA NUEVA ",null,0,0,0,0,0,0,0,0,0,0,0,0,0]
[null,"09600199",null,"CONTROL ",null,0,0,0,0,0,0,0,0,0,0,0,0,0]
[null,null,"TOTAL","URGENCIA",null,{"$f":"SUM(F17:F18)","v":46},{"$f":"SUM(G17:G18)","v":22},52,38,42,33,28,42,20,35,36,35,{"$f":"SUM(F47:Q47)","v":429}]
[{"$nulls":3},"CONSULTA NUEVA ",null,{"$f":"SUM(F19,F21,F23,F25,F27,F29,F31,F33,F35,F37,F39,F41,F43,F45)","v":204},{"$f":"SUM(G19,G21,G23,G25,G27,G29,G31,G33,G35,G37,G39,G41,G43,G45)","v":144},291,288,340,267,241,301,248,259,243,275,{"$f":"SUM(F48:Q48)","v":3101}]
[{"$nulls":3},"CONTROL ",null,{"$f":"SUM(F20,F22,F24,F26,F28,F30,F32,F34,F36,F38,F40,F42,F44,F46)","v":629},493,946,996,1135,885,762,1149,875,961,972,1124,10927]
[null,null,"Fuente: REM A09, Sección I"]

{"sheet":"HILL","index":5,"n_rows":50,"n_cols":18,"rows_kept":50,"merged":[[7,2,10,17],[13,2,15,2],[13,3,15,4],[13,17,15,17],[16,2,17,2],[18,2,19,2],[20,2,21,2],[22,2,23,2],[24,2,25,2],[26,2,27,2],[28,2,29,2],[30,2,31,2],[32,2,33,2],[34,2,35,2],[36,2,37,2],[38,2,39,2],[40,2,41,2],[42,2,43,2],[44,2,45,2],[46,2,48,2],[46,3,46,4],[47,3,47,4],[48,3,48,4]]}
["MINISTERIO DE SALUD"]
["SERVICIO DE SALUD COQUIMBO"]
["DEPARTAMENTO  DE GESTIÓN, PLANIFICACIÓN Y CONTROL"]
["SUBDEPTO. DE ESTADÍSTICAS Y GESTIÓN DE LA INFORMACIÓN "]
["AÑO 2022"]
[]
[]
[null,null,"INDICADOR 6.4: Índice de Ocupación Dental (IOD) del Servicio de Salud en el periodo."]
[]
[]
[]
[]
[]
[null,null,"ESPECIALIDAD Y TIPO DE INGRESO O EGRESO","Hospital de Illapel",{"$nulls":13},"TOTAL"]
[{"$nulls":5},"Enero","Febrero","Marzo","Abril","Mayo","Junio","Julio","Agosto","Septiembre","Octubre","Noviembre","Diciembre"]
[]
[null,"09240700","CONSULTAS DE URGENCIA","CONSULTAS GES",null,0,0,0,0,0,0,0,0,0,0,0,0,{"$f":"SUM(F17:Q17)","v":0}]
[null,"09600325",null,"CONSULTA NO GES",null,6,32,24,18,28,17,14,33,46,20,15,25,{"$f":"SUM(F18:Q18)","v":278}]
[null,"09600155","CIRUGÍA BUCAL","CONSULTA NUEVA ",null,0,0,0,0,0,0,0,0,0,0,0,0,0]
[null,"09600156",null,"CONTROL ",null,0,0,0,0,0,0,0,0,0,0,0,0,0]
[null,"09600158","CIRUGÍA Y TRAUMATOLOGÍA MAXILOFACIAL","CONSULTA NUEVA ",null,18,12,14,26,55,28,45,82,31,26,41,16,394]
[null,"09600159",null,"CONTROL ",null,122,98,86,126,130,128,103,118,83,178,127,44,1343]
[null,"09600161","ENDODONCIA","CONSULTA NUEVA ",null,45,44,30,53,84,79,70,101,48,72,54,43,723]
[null,"09600162",null,"CONTROL ",null,88,70,51,105,119,118,122,155,120,142,110,112,1312]
[null,"09600164","ODONTOPEDIATRÍA","CONSULTA NUEVA ",null,6,11,18,12,31,27,16,50,33,12,26,11,253]
[null,"09600165",null,"CONTROL ",null,111,96,118,189,241,161,104,108,168,95,169,132,1692]
[null,"09600167","OPERATORIA","CONSULTA NUEVA ",null,0,0,0,0,0,0,0,0,0,0,0,0,0]
[null,"09600168",null,"CONTROL ",null,0,0,0,0,0,0,0,0,0,0,0,0,0]
[null,"09600170","ORTODONCIA Y ORTOPEDIA DENTO MAXILOFACIAL: APARATOLOGÍA FIJA","CONSULTA NUEVA ",null,10,0,4,0,9,1,1,17,84,41,61,34,262]
[null,"09600171",null,"CONTROL ",null,271,211,238,93,209,208,181,264,147,158,158,110,2248]
[null,"09600173","ORTODONCIA Y ORTOPEDIA DENTO MAXILOFACIAL: APARATOLOGÍA REMOVIBLE","CONSULTA NUEVA ",null,1,4,11,0,3,0,1,9,8,19,0,0,56]
[null,"09600174",null,"CONTROL ",null,7,6,5,1,5,10,5,7,5,3,6,1,61]
[null,"09600178","PERIODONCIA","CONSULTA NUEVA ",null,39,18,46,13,13,30,26,25,67,25,59,10,371]
[null,"09600179",null,"CONTROL ",null,109,31,167,133,111,67,68,98,94,87,85,166,1216]
[null,"09600181","REHABILITACIÓN: PRÓTESIS FIJA","CONSULTA NUEVA ",null,0,0,0,0,0,0,0,0,0,0,0,0,0]
[null,"09600182",null,"CONTROL ",null,0,0,0,0,0,0,0,0,0,0,0,0,0]
[null,"09600184","REHABILITACIÓN: PRÓTESIS REMOVIBLE","CONSULTA NUEVA ",null,22,16,22,18,18,6,15,23,14,90,102,28,374]
[null,"09600185",null,"CONTROL ",null,55,39,67,56,31,28,47,73,18,20,41,22,497]
[null,"09600187","REHABILITACIÓN: PRÓTESIS IMPLANTOASISTIDA","CONSULTA NUEVA ",null,0,0,0,0,0,0,0,0,0,0,0,0,0]
[null,"09600188",null,"CONTROL ",null,0,0,0,0,0,0,0,0,0,0,0,0,0]
[null,"09600192","IMPLANTOLOGÍA BUCO MAXILOFACIAL","CONSULTA NUEVA ",null,0,0,0,0,0,0,0,0,0,0,0,0,0]
[null,"09600193",null,"CONTROL ",null,0,0,0,0,0,0,0,0,0,0,0,0,0]
[null,"09600195","PATOLOGÍA ORAL","CONSULTA NUEVA ",null,0,0,0,0,0,0,0,0,0,0,0,0,0]
[null,"09600196",null,"CONTROL ",null,0,0,0,0,0,0,0,0,0,0,0,0,0]
[null,"09600198","TRASTORNOS TEMPOROMANDIBULARES Y DOLOR OROFACIAL","CONSULTA NUEVA ",null,0,0,0,0,0,0,0,0,0,0,0,0,0]
[null,"09600199",null,"CONTROL ",null,0,0,0,0,0,0,0,0,0,0,0,0,0]
[null,null,"TOTAL","URGENCIA",null,{"$f":"SUM(F17:F18)","v":6},{"$f":"SUM(G17:G18)","v":32},24,18,28,17,14,33,46,20,15,25,{"$f":"SUM(F47:Q47)","v":278}]
[{"$nulls":3},"CONSULTA NUEVA ",null,{"$f":"SUM(F19,F21,F23,F25,F27,F29,F31,F33,F35,F37,F39,F41,F43,F45)","v":141},{"$f":"SUM(G19,G21,G23,G25,G27,G29,G31,G33,G35,G37,G39,G41,G43,G45)","v":105},145,122,213,171,174,307,285,285,343,142,{"$f":"SUM(F48:Q48)","v":2433}]
[{"$nulls":3},"CONTROL ",null,{"$f":"SUM(F20,F22,F24,F26,F28,F30,F32,F34,F36,F38,F40,F42,F44,F46)","v":763},551,732,703,846,720,630,823,635,683,696,587,8369]
[null,null,"Fuente: REM A09, Sección I"]

{"sheet":"Hoja Dinámica","index":6,"n_rows":49,"n_cols":18,"rows_kept":49,"hidden":true,"merged":[[7,2,10,17],[13,2,15,2],[13,3,15,4],[13,17,15,17],[16,2,17,2],[18,2,19,2],[20,2,21,2],[22,2,23,2],[24,2,25,2],[26,2,27,2],[28,2,29,2],[30,2,31,2],[32,2,33,2],[34,2,35,2],[36,2,37,2],[38,2,39,2],[40,2,41,2],[42,2,43,2],[44,2,45,2],[46,2,48,2],[46,3,46,4],[47,3,47,4],[48,3,48,4]]}
["MINISTERIO DE SALUD"]
["SERVICIO DE SALUD COQUIMBO"]
["DEPARTAMENTO  DE GESTIÓN, PLANIFICACIÓN Y CONTROL"]
["SUBDEPTO. DE ESTADÍSTICAS Y GESTIÓN DE LA INFORMACIÓN "]
["AÑO 2022"]
[]
[]
[null,null,"INDICADOR 6.4: Índice de Ocupación Dental (IOD) del Servicio de Salud en el periodo."]
[]
[]
[]
[]
[]
[null,null,"ESPECIALIDAD Y TIPO DE INGRESO O EGRESO","Hospital De La Serena",{"$nulls":13},"TOTAL"]
[{"$nulls":5},"Enero","Febrero","Marzo","Abril","Mayo","Junio","Julio","Agosto","Septiembre","Octubre","Noviembre","Diciembre"]
[]
[null,"09240700","CONSULTAS DE URGENCIA","CONSULTAS GES",null,{"$f":"IFERROR(VLOOKUP($B17,Filtro_DIC!$A$3:$N$35,2,FALSE),0)","v":48},{"$f":"IFERROR(VLOOKUP($B17,Filtro_DIC!$A$3:$N$35,3,FALSE),0)","v":36},{"$f":"IFERROR(VLOOKUP($B17,Filtro_DIC!$A$3:$N$35,4,FALSE),0)","v":37},{"$f":"IFERROR(VLOOKUP($B17,Filtro_DIC!$A$3:$N$35,5,FALSE),0)","v":41},{"$f":"IFERROR(VLOOKUP($B17,Filtro_DIC!$A$3:$N$35,6,FALSE),0)","v":38},{"$f":"IFERROR(VLOOKUP($B17,Filtro_DIC!$A$3:$N$35,7,FALSE),0)","v":10},{"$f":"IFERROR(VLOOKUP($B17,Filtro_DIC!$A$3:$N$35,8,FALSE),0)","v":18},{"$f":"IFERROR(VLOOKUP($B17,Filtro_DIC!$A$3:$N$35,9,FALSE),0)","v":37},{"$f":"IFERROR(VLOOKUP($B17,Filtro_DIC!$A$3:$N$35,10,FALSE),0)","v":17},{"$f":"IFERROR(VLOOKUP($B17,Filtro_DIC!$A$3:$N$35,11,FALSE),0)","v":22},{"$f":"IFERROR(VLOOKUP($B17,Filtro_DIC!$A$3:$N$35,12,FALSE),0)","v":22},{"$f":"IFERROR(VLOOKUP($B17,Filtro_DIC!$A$3:$N$35,13,FALSE),0)","v":11},{"$f":"SUM(F17:Q17)","v":337}]
[null,"09600325",null,"CONSULTA NO GES",null,{"$f":"IFERROR(VLOOKUP($B18,Filtro_DIC!$A$3:$N$35,2,FALSE),0)","v":27},{"$f":"IFERROR(VLOOKUP($B18,Filtro_DIC!$A$3:$N$35,3,FALSE),0)","v":14},{"$f":"IFERROR(VLOOKUP($B18,Filtro_DIC!$A$3:$N$35,4,FALSE),0)","v":16},{"$f":"IFERROR(VLOOKUP($B18,Filtro_DIC!$A$3:$N$35,5,FALSE),0)","v":12},{"$f":"IFERROR(VLOOKUP($B18,Filtro_DIC!$A$3:$N$35,6,FALSE),0)","v":11},{"$f":"IFERROR(VLOOKUP($B18,Filtro_DIC!$A$3:$N$35,7,FALSE),0)","v":1},{"$f":"IFERROR(VLOOKUP($B18,Filtro_DIC!$A$3:$N$35,8,FALSE),0)","v":12},{"$f":"IFERROR(VLOOKUP($B18,Filtro_DIC!$A$3:$N$35,9,FALSE),0)","v":17},{"$f":"IFERROR(VLOOKUP($B18,Filtro_DIC!$A$3:$N$35,10,FALSE),0)","v":2},{"$f":"IFERROR(VLOOKUP($B18,Filtro_DIC!$A$3:$N$35,11,FALSE),0)","v":11},{"$f":"IFERROR(VLOOKUP($B18,Filtro_DIC!$A$3:$N$35,12,FALSE),0)","v":3},{"$f":"IFERROR(VLOOKUP($B18,Filtro_DIC!$A$3:$N$35,13,FALSE),0)","v":6},{"$f":"SUM(F18:Q18)","v":132}]
[null,"09600155","CIRUGÍA BUCAL","CONSULTA NUEVA ",null,{"$f":"IFERROR(VLOOKUP($B19,Filtro_DIC!$A$3:$N$35,2,FALSE),0)","v":16},{"$f":"IFERROR(VLOOKUP($B19,Filtro_DIC!$A$3:$N$35,3,FALSE),0)","v":24},{"$f":"IFERROR(VLOOKUP($B19,Filtro_DIC!$A$3:$N$35,4,FALSE),0)","v":25},{"$f":"IFERROR(VLOOKUP($B19,Filtro_DIC!$A$3:$N$35,5,FALSE),0)","v":7},{"$f":"IFERROR(VLOOKUP($B19,Filtro_DIC!$A$3:$N$35,6,FALSE),0)","v":36},{"$f":"IFERROR(VLOOKUP($B19,Filtro_DIC!$A$3:$N$35,7,FALSE),0)","v":39},{"$f":"IFERROR(VLOOKUP($B19,Filtro_DIC!$A$3:$N$35,8,FALSE),0)","v":36},{"$f":"IFERROR(VLOOKUP($B19,Filtro_DIC!$A$3:$N$35,9,FALSE),0)","v":11},{"$f":"IFERROR(VLOOKUP($B19,Filtro_DIC!$A$3:$N$35,10,FALSE),0)","v":45},{"$f":"IFERROR(VLOOKUP($B19,Filtro_DIC!$A$3:$N$35,11,FALSE),0)","v":59},{"$f":"IFERROR(VLOOKUP($B19,Filtro_DIC!$A$3:$N$35,12,FALSE),0)","v":59},{"$f":"IFERROR(VLOOKUP($B19,Filtro_DIC!$A$3:$N$35,13,FALSE),0)","v":35},392]
[null,"09600156",null,"CONTROL ",null,{"$f":"IFERROR(VLOOKUP($B20,Filtro_DIC!$A$3:$N$35,2,FALSE),0)","v":75},{"$f":"IFERROR(VLOOKUP($B20,Filtro_DIC!$A$3:$N$35,3,FALSE),0)","v":92},{"$f":"IFERROR(VLOOKUP($B20,Filtro_DIC!$A$3:$N$35,4,FALSE),0)","v":75},{"$f":"IFERROR(VLOOKUP($B20,Filtro_DIC!$A$3:$N$35,5,FALSE),0)","v":25},{"$f":"IFERROR(VLOOKUP($B20,Filtro_DIC!$A$3:$N$35,6,FALSE),0)","v":89},{"$f":"IFERROR(VLOOKUP($B20,Filtro_DIC!$A$3:$N$35,7,FALSE),0)","v":93},{"$f":"IFERROR(VLOOKUP($B20,Filtro_DIC!$A$3:$N$35,8,FALSE),0)","v":104},{"$f":"IFERROR(VLOOKUP($B20,Filtro_DIC!$A$3:$N$35,9,FALSE),0)","v":132},{"$f":"IFERROR(VLOOKUP($B20,Filtro_DIC!$A$3:$N$35,10,FALSE),0)","v":76},{"$f":"IFERROR(VLOOKUP($B20,Filtro_DIC!$A$3:$N$35,11,FALSE),0)","v":92},{"$f":"IFERROR(VLOOKUP($B20,Filtro_DIC!$A$3:$N$35,12,FALSE),0)","v":118},{"$f":"IFERROR(VLOOKUP($B20,Filtro_DIC!$A$3:$N$35,13,FALSE),0)","v":55},1026]
[null,"09600158","CIRUGÍA Y TRAUMATOLOGÍA MAXILOFACIAL","CONSULTA NUEVA ",null,{"$f":"IFERROR(VLOOKUP($B21,Filtro_DIC!$A$3:$N$35,2,FALSE),0)","v":45},{"$f":"IFERROR(VLOOKUP($B21,Filtro_DIC!$A$3:$N$35,3,FALSE),0)","v":55},{"$f":"IFERROR(VLOOKUP($B21,Filtro_DIC!$A$3:$N$35,4,FALSE),0)","v":53},{"$f":"IFERROR(VLOOKUP($B21,Filtro_DIC!$A$3:$N$35,5,FALSE),0)","v":52},{"$f":"IFERROR(VLOOKUP($B21,Filtro_DIC!$A$3:$N$35,6,FALSE),0)","v":61},{"$f":"IFERROR(VLOOKUP($B21,Filtro_DIC!$A$3:$N$35,7,FALSE),0)","v":65},{"$f":"IFERROR(VLOOKUP($B21,Filtro_DIC!$A$3:$N$35,8,FALSE),0)","v":42},{"$f":"IFERROR(VLOOKUP($B21,Filtro_DIC!$A$3:$N$35,9,FALSE),0)","v":50},{"$f":"IFERROR(VLOOKUP($B21,Filtro_DIC!$A$3:$N$35,10,FALSE),0)","v":67},{"$f":"IFERROR(VLOOKUP($B21,Filtro_DIC!$A$3:$N$35,11,FALSE),0)","v":90},{"$f":"IFERROR(VLOOKUP($B21,Filtro_DIC!$A$3:$N$35,12,FALSE),0)","v":90},{"$f":"IFERROR(VLOOKUP($B21,Filtro_DIC!$A$3:$N$35,13,FALSE),0)","v":73},743]
[null,"09600159",null,"CONTROL ",null,{"$f":"IFERROR(VLOOKUP($B22,Filtro_DIC!$A$3:$N$35,2,FALSE),0)","v":120},{"$f":"IFERROR(VLOOKUP($B22,Filtro_DIC!$A$3:$N$35,3,FALSE),0)","v":151},{"$f":"IFERROR(VLOOKUP($B22,Filtro_DIC!$A$3:$N$35,4,FALSE),0)","v":210},{"$f":"IFERROR(VLOOKUP($B22,Filtro_DIC!$A$3:$N$35,5,FALSE),0)","v":229},{"$f":"IFERROR(VLOOKUP($B22,Filtro_DIC!$A$3:$N$35,6,FALSE),0)","v":193},{"$f":"IFERROR(VLOOKUP($B22,Filtro_DIC!$A$3:$N$35,7,FALSE),0)","v":193},{"$f":"IFERROR(VLOOKUP($B22,Filtro_DIC!$A$3:$N$35,8,FALSE),0)","v":136},{"$f":"IFERROR(VLOOKUP($B22,Filtro_DIC!$A$3:$N$35,9,FALSE),0)","v":165},{"$f":"IFERROR(VLOOKUP($B22,Filtro_DIC!$A$3:$N$35,10,FALSE),0)","v":140},{"$f":"IFERROR(VLOOKUP($B22,Filtro_DIC!$A$3:$N$35,11,FALSE),0)","v":201},{"$f":"IFERROR(VLOOKUP($B22,Filtro_DIC!$A$3:$N$35,12,FALSE),0)","v":208},{"$f":"IFERROR(VLOOKUP($B22,Filtro_DIC!$A$3:$N$35,13,FALSE),0)","v":252},2198]
[null,"09600161","ENDODONCIA","CONSULTA NUEVA ",null,{"$f":"IFERROR(VLOOKUP($B23,Filtro_DIC!$A$3:$N$35,2,FALSE),0)","v":112},{"$f":"IFERROR(VLOOKUP($B23,Filtro_DIC!$A$3:$N$35,3,FALSE),0)","v":88},{"$f":"IFERROR(VLOOKUP($B23,Filtro_DIC!$A$3:$N$35,4,FALSE),0)","v":175},{"$f":"IFERROR(VLOOKUP($B23,Filtro_DIC!$A$3:$N$35,5,FALSE),0)","v":124},{"$f":"IFERROR(VLOOKUP($B23,Filtro_DIC!$A$3:$N$35,6,FALSE),0)","v":128},{"$f":"IFERROR(VLOOKUP($B23,Filtro_DIC!$A$3:$N$35,7,FALSE),0)","v":139},{"$f":"IFERROR(VLOOKUP($B23,Filtro_DIC!$A$3:$N$35,8,FALSE),0)","v":146},{"$f":"IFERROR(VLOOKUP($B23,Filtro_DIC!$A$3:$N$35,9,FALSE),0)","v":104},{"$f":"IFERROR(VLOOKUP($B23,Filtro_DIC!$A$3:$N$35,10,FALSE),0)","v":84},{"$f":"IFERROR(VLOOKUP($B23,Filtro_DIC!$A$3:$N$35,11,FALSE),0)","v":82},{"$f":"IFERROR(VLOOKUP($B23,Filtro_DIC!$A$3:$N$35,12,FALSE),0)","v":85},{"$f":"IFERROR(VLOOKUP($B23,Filtro_DIC!$A$3:$N$35,13,FALSE),0)","v":66},1333]
[null,"09600162",null,"CONTROL ",null,{"$f":"IFERROR(VLOOKUP($B24,Filtro_DIC!$A$3:$N$35,2,FALSE),0)","v":189},{"$f":"IFERROR(VLOOKUP($B24,Filtro_DIC!$A$3:$N$35,3,FALSE),0)","v":153},{"$f":"IFERROR(VLOOKUP($B24,Filtro_DIC!$A$3:$N$35,4,FALSE),0)","v":251},{"$f":"IFERROR(VLOOKUP($B24,Filtro_DIC!$A$3:$N$35,5,FALSE),0)","v":172},{"$f":"IFERROR(VLOOKUP($B24,Filtro_DIC!$A$3:$N$35,6,FALSE),0)","v":246},{"$f":"IFERROR(VLOOKUP($B24,Filtro_DIC!$A$3:$N$35,7,FALSE),0)","v":180},{"$f":"IFERROR(VLOOKUP($B24,Filtro_DIC!$A$3:$N$35,8,FALSE),0)","v":216},{"$f":"IFERROR(VLOOKUP($B24,Filtro_DIC!$A$3:$N$35,9,FALSE),0)","v":223},{"$f":"IFERROR(VLOOKUP($B24,Filtro_DIC!$A$3:$N$35,10,FALSE),0)","v":187},{"$f":"IFERROR(VLOOKUP($B24,Filtro_DIC!$A$3:$N$35,11,FALSE),0)","v":226},{"$f":"IFERROR(VLOOKUP($B24,Filtro_DIC!$A$3:$N$35,12,FALSE),0)","v":198},{"$f":"IFERROR(VLOOKUP($B24,Filtro_DIC!$A$3:$N$35,13,FALSE),0)","v":190},2431]
[null,"09600164","ODONTOPEDIATRÍA","CONSULTA NUEVA ",null,{"$f":"IFERROR(VLOOKUP($B25,Filtro_DIC!$A$3:$N$35,2,FALSE),0)","v":70},{"$f":"IFERROR(VLOOKUP($B25,Filtro_DIC!$A$3:$N$35,3,FALSE),0)","v":30},{"$f":"IFERROR(VLOOKUP($B25,Filtro_DIC!$A$3:$N$35,4,FALSE),0)","v":48},{"$f":"IFERROR(VLOOKUP($B25,Filtro_DIC!$A$3:$N$35,5,FALSE),0)","v":48},{"$f":"IFERROR(VLOOKUP($B25,Filtro_DIC!$A$3:$N$35,6,FALSE),0)","v":49},{"$f":"IFERROR(VLOOKUP($B25,Filtro_DIC!$A$3:$N$35,7,FALSE),0)","v":42},{"$f":"IFERROR(VLOOKUP($B25,Filtro_DIC!$A$3:$N$35,8,FALSE),0)","v":55},{"$f":"IFERROR(VLOOKUP($B25,Filtro_DIC!$A$3:$N$35,9,FALSE),0)","v":36},{"$f":"IFERROR(VLOOKUP($B25,Filtro_DIC!$A$3:$N$35,10,FALSE),0)","v":32},{"$f":"IFERROR(VLOOKUP($B25,Filtro_DIC!$A$3:$N$35,11,FALSE),0)","v":44},{"$f":"IFERROR(VLOOKUP($B25,Filtro_DIC!$A$3:$N$35,12,FALSE),0)","v":42},{"$f":"IFERROR(VLOOKUP($B25,Filtro_DIC!$A$3:$N$35,13,FALSE),0)","v":35},531]
[null,"09600165",null,"CONTROL ",null,{"$f":"IFERROR(VLOOKUP($B26,Filtro_DIC!$A$3:$N$35,2,FALSE),0)","v":227},{"$f":"IFERROR(VLOOKUP($B26,Filtro_DIC!$A$3:$N$35,3,FALSE),0)","v":139},{"$f":"IFERROR(VLOOKUP($B26,Filtro_DIC!$A$3:$N$35,4,FALSE),0)","v":226},{"$f":"IFERROR(VLOOKUP($B26,Filtro_DIC!$A$3:$N$35,5,FALSE),0)","v":189},{"$f":"IFERROR(VLOOKUP($B26,Filtro_DIC!$A$3:$N$35,6,FALSE),0)","v":225},{"$f":"IFERROR(VLOOKUP($B26,Filtro_DIC!$A$3:$N$35,7,FALSE),0)","v":176},{"$f":"IFERROR(VLOOKUP($B26,Filtro_DIC!$A$3:$N$35,8,FALSE),0)","v":233},{"$f":"IFERROR(VLOOKUP($B26,Filtro_DIC!$A$3:$N$35,9,FALSE),0)","v":187},{"$f":"IFERROR(VLOOKUP($B26,Filtro_DIC!$A$3:$N$35,10,FALSE),0)","v":191},{"$f":"IFERROR(VLOOKUP($B26,Filtro_DIC!$A$3:$N$35,11,FALSE),0)","v":192},{"$f":"IFERROR(VLOOKUP($B26,Filtro_DIC!$A$3:$N$35,12,FALSE),0)","v":248},{"$f":"IFERROR(VLOOKUP($B26,Filtro_DIC!$A$3:$N$35,13,FALSE),0)","v":245},2478]
[null,"09600167","OPERATORIA","CONSULTA NUEVA ",null,{"$f":"IFERROR(VLOOKUP($B27,Filtro_DIC!$A$3:$N$35,2,FALSE),0)","v":11},{"$f":"IFERROR(VLOOKUP($B27,Filtro_DIC!$A$3:$N$35,3,FALSE),0)","v":5},{"$f":"IFERROR(VLOOKUP($B27,Filtro_DIC!$A$3:$N$35,4,FALSE),0)","v":9},{"$f":"IFERROR(VLOOKUP($B27,Filtro_DIC!$A$3:$N$35,5,FALSE),0)","v":6},{"$f":"IFERROR(VLOOKUP($B27,Filtro_DIC!$A$3:$N$35,6,FALSE),0)","v":11},{"$f":"IFERROR(VLOOKUP($B27,Filtro_DIC!$A$3:$N$35,7,FALSE),0)","v":15},{"$f":"IFERROR(VLOOKUP($B27,Filtro_DIC!$A$3:$N$35,8,FALSE),0)","v":7},{"$f":"IFERROR(VLOOKUP($B27,Filtro_DIC!$A$3:$N$35,9,FALSE),0)","v":6},{"$f":"IFERROR(VLOOKUP($B27,Filtro_DIC!$A$3:$N$35,10,FALSE),0)","v":8},{"$f":"IFERROR(VLOOKUP($B27,Filtro_DIC!$A$3:$N$35,11,FALSE),0)","v":6},{"$f":"IFERROR(VLOOKUP($B27,Filtro_DIC!$A$3:$N$35,12,FALSE),0)","v":14},{"$f":"IFERROR(VLOOKUP($B27,Filtro_DIC!$A$3:$N$35,13,FALSE),0)","v":4},102]
[null,"09600168",null,"CONTROL ",null,{"$f":"IFERROR(VLOOKUP($B28,Filtro_DIC!$A$3:$N$35,2,FALSE),0)","v":52},{"$f":"IFERROR(VLOOKUP($B28,Filtro_DIC!$A$3:$N$35,3,FALSE),0)","v":17},{"$f":"IFERROR(VLOOKUP($B28,Filtro_DIC!$A$3:$N$35,4,FALSE),0)","v":35},{"$f":"IFERROR(VLOOKUP($B28,Filtro_DIC!$A$3:$N$35,5,FALSE),0)","v":32},{"$f":"IFERROR(VLOOKUP($B28,Filtro_DIC!$A$3:$N$35,6,FALSE),0)","v":50},{"$f":"IFERROR(VLOOKUP($B28,Filtro_DIC!$A$3:$N$35,7,FALSE),0)","v":30},{"$f":"IFERROR(VLOOKUP($B28,Filtro_DIC!$A$3:$N$35,8,FALSE),0)","v":20},{"$f":"IFERROR(VLOOKUP($B28,Filtro_DIC!$A$3:$N$35,9,FALSE),0)","v":41},{"$f":"IFERROR(VLOOKUP($B28,Filtro_DIC!$A$3:$N$35,10,FALSE),0)","v":30},{"$f":"IFERROR(VLOOKUP($B28,Filtro_DIC!$A$3:$N$35,11,FALSE),0)","v":25},{"$f":"IFERROR(VLOOKUP($B28,Filtro_DIC!$A$3:$N$35,12,FALSE),0)","v":26},{"$f":"IFERROR(VLOOKUP($B28,Filtro_DIC!$A$3:$N$35,13,FALSE),0)","v":15},373]
[null,"09600170","ORTODONCIA Y ORTOPEDIA DENTO MAXILOFACIAL: APARATOLOGÍA FIJA","CONSULTA NUEVA ",null,{"$f":"IFERROR(VLOOKUP($B29,Filtro_DIC!$A$3:$N$35,2,FALSE),0)","v":31},{"$f":"IFERROR(VLOOKUP($B29,Filtro_DIC!$A$3:$N$35,3,FALSE),0)","v":12},{"$f":"IFERROR(VLOOKUP($B29,Filtro_DIC!$A$3:$N$35,4,FALSE),0)","v":42},{"$f":"IFERROR(VLOOKUP($B29,Filtro_DIC!$A$3:$N$35,5,FALSE),0)","v":38},{"$f":"IFERROR(VLOOKUP($B29,Filtro_DIC!$A$3:$N$35,6,FALSE),0)","v":52},{"$f":"IFERROR(VLOOKUP($B29,Filtro_DIC!$A$3:$N$35,7,FALSE),0)","v":52},{"$f":"IFERROR(VLOOKUP($B29,Filtro_DIC!$A$3:$N$35,8,FALSE),0)","v":68},{"$f":"IFERROR(VLOOKUP($B29,Filtro_DIC!$A$3:$N$35,9,FALSE),0)","v":10},{"$f":"IFERROR(VLOOKUP($B29,Filtro_DIC!$A$3:$N$35,10,FALSE),0)","v":0},{"$f":"IFERROR(VLOOKUP($B29,Filtro_DIC!$A$3:$N$35,11,FALSE),0)","v":0},{"$f":"IFERROR(VLOOKUP($B29,Filtro_DIC!$A$3:$N$35,12,FALSE),0)","v":43},{"$f":"IFERROR(VLOOKUP($B29,Filtro_DIC!$A$3:$N$35,13,FALSE),0)","v":57},405]
[null,"09600171",null,"CONTROL ",null,{"$f":"IFERROR(VLOOKUP($B30,Filtro_DIC!$A$3:$N$35,2,FALSE),0)","v":216},{"$f":"IFERROR(VLOOKUP($B30,Filtro_DIC!$A$3:$N$35,3,FALSE),0)","v":110},{"$f":"IFERROR(VLOOKUP($B30,Filtro_DIC!$A$3:$N$35,4,FALSE),0)","v":309},{"$f":"IFERROR(VLOOKUP($B30,Filtro_DIC!$A$3:$N$35,5,FALSE),0)","v":260},{"$f":"IFERROR(VLOOKUP($B30,Filtro_DIC!$A$3:$N$35,6,FALSE),0)","v":327},{"$f":"IFERROR(VLOOKUP($B30,Filtro_DIC!$A$3:$N$35,7,FALSE),0)","v":196},{"$f":"IFERROR(VLOOKUP($B30,Filtro_DIC!$A$3:$N$35,8,FALSE),0)","v":345},{"$f":"IFERROR(VLOOKUP($B30,Filtro_DIC!$A$3:$N$35,9,FALSE),0)","v":364},{"$f":"IFERROR(VLOOKUP($B30,Filtro_DIC!$A$3:$N$35,10,FALSE),0)","v":82},{"$f":"IFERROR(VLOOKUP($B30,Filtro_DIC!$A$3:$N$35,11,FALSE),0)","v":303},{"$f":"IFERROR(VLOOKUP($B30,Filtro_DIC!$A$3:$N$35,12,FALSE),0)","v":292},{"$f":"IFERROR(VLOOKUP($B30,Filtro_DIC!$A$3:$N$35,13,FALSE),0)","v":336},3140]
[null,"09600173","ORTODONCIA Y ORTOPEDIA DENTO MAXILOFACIAL: APARATOLOGÍA REMOVIBLE","CONSULTA NUEVA ",null,{"$f":"IFERROR(VLOOKUP($B31,Filtro_DIC!$A$3:$N$35,2,FALSE),0)","v":14},{"$f":"IFERROR(VLOOKUP($B31,Filtro_DIC!$A$3:$N$35,3,FALSE),0)","v":3},{"$f":"IFERROR(VLOOKUP($B31,Filtro_DIC!$A$3:$N$35,4,FALSE),0)","v":10},{"$f":"IFERROR(VLOOKUP($B31,Filtro_DIC!$A$3:$N$35,5,FALSE),0)","v":1},{"$f":"IFERROR(VLOOKUP($B31,Filtro_DIC!$A$3:$N$35,6,FALSE),0)","v":8},{"$f":"IFERROR(VLOOKUP($B31,Filtro_DIC!$A$3:$N$35,7,FALSE),0)","v":7},{"$f":"IFERROR(VLOOKUP($B31,Filtro_DIC!$A$3:$N$35,8,FALSE),0)","v":10},{"$f":"IFERROR(VLOOKUP($B31,Filtro_DIC!$A$3:$N$35,9,FALSE),0)","v":1},{"$f":"IFERROR(VLOOKUP($B31,Filtro_DIC!$A$3:$N$35,10,FALSE),0)","v":0},{"$f":"IFERROR(VLOOKUP($B31,Filtro_DIC!$A$3:$N$35,11,FALSE),0)","v":0},{"$f":"IFERROR(VLOOKUP($B31,Filtro_DIC!$A$3:$N$35,12,FALSE),0)","v":16},{"$f":"IFERROR(VLOOKUP($B31,Filtro_DIC!$A$3:$N$35,13,FALSE),0)","v":13},83]
[null,"09600174",null,"CONTROL ",null,{"$f":"IFERROR(VLOOKUP($B32,Filtro_DIC!$A$3:$N$35,2,FALSE),0)","v":101},{"$f":"IFERROR(VLOOKUP($B32,Filtro_DIC!$A$3:$N$35,3,FALSE),0)","v":38},{"$f":"IFERROR(VLOOKUP($B32,Filtro_DIC!$A$3:$N$35,4,FALSE),0)","v":117},{"$f":"IFERROR(VLOOKUP($B32,Filtro_DIC!$A$3:$N$35,5,FALSE),0)","v":105},{"$f":"IFERROR(VLOOKUP($B32,Filtro_DIC!$A$3:$N$35,6,FALSE),0)","v":129},{"$f":"IFERROR(VLOOKUP($B32,Filtro_DIC!$A$3:$N$35,7,FALSE),0)","v":73},{"$f":"IFERROR(VLOOKUP($B32,Filtro_DIC!$A$3:$N$35,8,FALSE),0)","v":104},{"$f":"IFERROR(VLOOKUP($B32,Filtro_DIC!$A$3:$N$35,9,FALSE),0)","v":126},{"$f":"IFERROR(VLOOKUP($B32,Filtro_DIC!$A$3:$N$35,10,FALSE),0)","v":27},{"$f":"IFERROR(VLOOKUP($B32,Filtro_DIC!$A$3:$N$35,11,FALSE),0)","v":116},{"$f":"IFERROR(VLOOKUP($B32,Filtro_DIC!$A$3:$N$35,12,FALSE),0)","v":93},{"$f":"IFERROR(VLOOKUP($B32,Filtro_DIC!$A$3:$N$35,13,FALSE),0)","v":85},1114]
[null,"09600178","PERIODONCIA","CONSULTA NUEVA ",null,{"$f":"IFERROR(VLOOKUP($B33,Filtro_DIC!$A$3:$N$35,2,FALSE),0)","v":40},{"$f":"IFERROR(VLOOKUP($B33,Filtro_DIC!$A$3:$N$35,3,FALSE),0)","v":43},{"$f":"IFERROR(VLOOKUP($B33,Filtro_DIC!$A$3:$N$35,4,FALSE),0)","v":46},{"$f":"IFERROR(VLOOKUP($B33,Filtro_DIC!$A$3:$N$35,5,FALSE),0)","v":33},{"$f":"IFERROR(VLOOKUP($B33,Filtro_DIC!$A$3:$N$35,6,FALSE),0)","v":42},{"$f":"IFERROR(VLOOKUP($B33,Filtro_DIC!$A$3:$N$35,7,FALSE),0)","v":102},{"$f":"IFERROR(VLOOKUP($B33,Filtro_DIC!$A$3:$N$35,8,FALSE),0)","v":68},{"$f":"IFERROR(VLOOKUP($B33,Filtro_DIC!$A$3:$N$35,9,FALSE),0)","v":66},{"$f":"IFERROR(VLOOKUP($B33,Filtro_DIC!$A$3:$N$35,10,FALSE),0)","v":62},{"$f":"IFERROR(VLOOKUP($B33,Filtro_DIC!$A$3:$N$35,11,FALSE),0)","v":81},{"$f":"IFERROR(VLOOKUP($B33,Filtro_DIC!$A$3:$N$35,12,FALSE),0)","v":69},{"$f":"IFERROR(VLOOKUP($B33,Filtro_DIC!$A$3:$N$35,13,FALSE),0)","v":56},708]
[null,"09600179",null,"CONTROL ",null,{"$f":"IFERROR(VLOOKUP($B34,Filtro_DIC!$A$3:$N$35,2,FALSE),0)","v":181},{"$f":"IFERROR(VLOOKUP($B34,Filtro_DIC!$A$3:$N$35,3,FALSE),0)","v":112},{"$f":"IFERROR(VLOOKUP($B34,Filtro_DIC!$A$3:$N$35,4,FALSE),0)","v":214},{"$f":"IFERROR(VLOOKUP($B34,Filtro_DIC!$A$3:$N$35,5,FALSE),0)","v":105},{"$f":"IFERROR(VLOOKUP($B34,Filtro_DIC!$A$3:$N$35,6,FALSE),0)","v":158},{"$f":"IFERROR(VLOOKUP($B34,Filtro_DIC!$A$3:$N$35,7,FALSE),0)","v":170},{"$f":"IFERROR(VLOOKUP($B34,Filtro_DIC!$A$3:$N$35,8,FALSE),0)","v":118},{"$f":"IFERROR(VLOOKUP($B34,Filtro_DIC!$A$3:$N$35,9,FALSE),0)","v":201},{"$f":"IFERROR(VLOOKUP($B34,Filtro_DIC!$A$3:$N$35,10,FALSE),0)","v":131},{"$f":"IFERROR(VLOOKUP($B34,Filtro_DIC!$A$3:$N$35,11,FALSE),0)","v":148},{"$f":"IFERROR(VLOOKUP($B34,Filtro_DIC!$A$3:$N$35,12,FALSE),0)","v":158},{"$f":"IFERROR(VLOOKUP($B34,Filtro_DIC!$A$3:$N$35,13,FALSE),0)","v":129},1825]
[null,"09600181","REHABILITACIÓN: PRÓTESIS FIJA","CONSULTA NUEVA ",null,{"$f":"IFERROR(VLOOKUP($B35,Filtro_DIC!$A$3:$N$35,2,FALSE),0)","v":0},{"$f":"IFERROR(VLOOKUP($B35,Filtro_DIC!$A$3:$N$35,3,FALSE),0)","v":4},{"$f":"IFERROR(VLOOKUP($B35,Filtro_DIC!$A$3:$N$35,4,FALSE),0)","v":9},{"$f":"IFERROR(VLOOKUP($B35,Filtro_DIC!$A$3:$N$35,5,FALSE),0)","v":2},{"$f":"IFERROR(VLOOKUP($B35,Filtro_DIC!$A$3:$N$35,6,FALSE),0)","v":4},{"$f":"IFERROR(VLOOKUP($B35,Filtro_DIC!$A$3:$N$35,7,FALSE),0)","v":6},{"$f":"IFERROR(VLOOKUP($B35,Filtro_DIC!$A$3:$N$35,8,FALSE),0)","v":1},{"$f":"IFERROR(VLOOKUP($B35,Filtro_DIC!$A$3:$N$35,9,FALSE),0)","v":0},{"$f":"IFERROR(VLOOKUP($B35,Filtro_DIC!$A$3:$N$35,10,FALSE),0)","v":2},{"$f":"IFERROR(VLOOKUP($B35,Filtro_DIC!$A$3:$N$35,11,FALSE),0)","v":5},{"$f":"IFERROR(VLOOKUP($B35,Filtro_DIC!$A$3:$N$35,12,FALSE),0)","v":5},{"$f":"IFERROR(VLOOKUP($B35,Filtro_DIC!$A$3:$N$35,13,FALSE),0)","v":0},38]
[null,"09600182",null,"CONTROL ",null,{"$f":"IFERROR(VLOOKUP($B36,Filtro_DIC!$A$3:$N$35,2,FALSE),0)","v":7},{"$f":"IFERROR(VLOOKUP($B36,Filtro_DIC!$A$3:$N$35,3,FALSE),0)","v":4},{"$f":"IFERROR(VLOOKUP($B36,Filtro_DIC!$A$3:$N$35,4,FALSE),0)","v":10},{"$f":"IFERROR(VLOOKUP($B36,Filtro_DIC!$A$3:$N$35,5,FALSE),0)","v":6},{"$f":"IFERROR(VLOOKUP($B36,Filtro_DIC!$A$3:$N$35,6,FALSE),0)","v":10},{"$f":"IFERROR(VLOOKUP($B36,Filtro_DIC!$A$3:$N$35,7,FALSE),0)","v":5},{"$f":"IFERROR(VLOOKUP($B36,Filtro_DIC!$A$3:$N$35,8,FALSE),0)","v":5},{"$f":"IFERROR(VLOOKUP($B36,Filtro_DIC!$A$3:$N$35,9,FALSE),0)","v":11},{"$f":"IFERROR(VLOOKUP($B36,Filtro_DIC!$A$3:$N$35,10,FALSE),0)","v":10},{"$f":"IFERROR(VLOOKUP($B36,Filtro_DIC!$A$3:$N$35,11,FALSE),0)","v":6},{"$f":"IFERROR(VLOOKUP($B36,Filtro_DIC!$A$3:$N$35,12,FALSE),0)","v":8},{"$f":"IFERROR(VLOOKUP($B36,Filtro_DIC!$A$3:$N$35,13,FALSE),0)","v":8},90]
[null,"09600184","REHABILITACIÓN: PRÓTESIS REMOVIBLE","CONSULTA NUEVA ",null,{"$f":"IFERROR(VLOOKUP($B37,Filtro_DIC!$A$3:$N$35,2,FALSE),0)","v":62},{"$f":"IFERROR(VLOOKUP($B37,Filtro_DIC!$A$3:$N$35,3,FALSE),0)","v":40},{"$f":"IFERROR(VLOOKUP($B37,Filtro_DIC!$A$3:$N$35,4,FALSE),0)","v":63},{"$f":"IFERROR(VLOOKUP($B37,Filtro_DIC!$A$3:$N$35,5,FALSE),0)","v":53},{"$f":"IFERROR(VLOOKUP($B37,Filtro_DIC!$A$3:$N$35,6,FALSE),0)","v":54},{"$f":"IFERROR(VLOOKUP($B37,Filtro_DIC!$A$3:$N$35,7,FALSE),0)","v":92},{"$f":"IFERROR(VLOOKUP($B37,Filtro_DIC!$A$3:$N$35,8,FALSE),0)","v":65},{"$f":"IFERROR(VLOOKUP($B37,Filtro_DIC!$A$3:$N$35,9,FALSE),0)","v":24},{"$f":"IFERROR(VLOOKUP($B37,Filtro_DIC!$A$3:$N$35,10,FALSE),0)","v":25},{"$f":"IFERROR(VLOOKUP($B37,Filtro_DIC!$A$3:$N$35,11,FALSE),0)","v":34},{"$f":"IFERROR(VLOOKUP($B37,Filtro_DIC!$A$3:$N$35,12,FALSE),0)","v":78},{"$f":"IFERROR(VLOOKUP($B37,Filtro_DIC!$A$3:$N$35,13,FALSE),0)","v":28},618]
[null,"09600185",null,"CONTROL ",null,{"$f":"IFERROR(VLOOKUP($B38,Filtro_DIC!$A$3:$N$35,2,FALSE),0)","v":337},{"$f":"IFERROR(VLOOKUP($B38,Filtro_DIC!$A$3:$N$35,3,FALSE),0)","v":203},{"$f":"IFERROR(VLOOKUP($B38,Filtro_DIC!$A$3:$N$35,4,FALSE),0)","v":367},{"$f":"IFERROR(VLOOKUP($B38,Filtro_DIC!$A$3:$N$35,5,FALSE),0)","v":406},{"$f":"IFERROR(VLOOKUP($B38,Filtro_DIC!$A$3:$N$35,6,FALSE),0)","v":376},{"$f":"IFERROR(VLOOKUP($B38,Filtro_DIC!$A$3:$N$35,7,FALSE),0)","v":264},{"$f":"IFERROR(VLOOKUP($B38,Filtro_DIC!$A$3:$N$35,8,FALSE),0)","v":179},{"$f":"IFERROR(VLOOKUP($B38,Filtro_DIC!$A$3:$N$35,9,FALSE),0)","v":464},{"$f":"IFERROR(VLOOKUP($B38,Filtro_DIC!$A$3:$N$35,10,FALSE),0)","v":364},{"$f":"IFERROR(VLOOKUP($B38,Filtro_DIC!$A$3:$N$35,11,FALSE),0)","v":287},{"$f":"IFERROR(VLOOKUP($B38,Filtro_DIC!$A$3:$N$35,12,FALSE),0)","v":292},{"$f":"IFERROR(VLOOKUP($B38,Filtro_DIC!$A$3:$N$35,13,FALSE),0)","v":166},3705]
[null,"09600187","REHABILITACIÓN: PRÓTESIS IMPLANTOASISTIDA","CONSULTA NUEVA ",null,{"$f":"IFERROR(VLOOKUP($B39,Filtro_DIC!$A$3:$N$35,2,FALSE),0)","v":2},{"$f":"IFERROR(VLOOKUP($B39,Filtro_DIC!$A$3:$N$35,3,FALSE),0)","v":0},{"$f":"IFERROR(VLOOKUP($B39,Filtro_DIC!$A$3:$N$35,4,FALSE),0)","v":4},{"$f":"IFERROR(VLOOKUP($B39,Filtro_DIC!$A$3:$N$35,5,FALSE),0)","v":2},{"$f":"IFERROR(VLOOKUP($B39,Filtro_DIC!$A$3:$N$35,6,FALSE),0)","v":3},{"$f":"IFERROR(VLOOKUP($B39,Filtro_DIC!$A$3:$N$35,7,FALSE),0)","v":0},{"$f":"IFERROR(VLOOKUP($B39,Filtro_DIC!$A$3:$N$35,8,FALSE),0)","v":1},{"$f":"IFERROR(VLOOKUP($B39,Filtro_DIC!$A$3:$N$35,9,FALSE),0)","v":5},{"$f":"IFERROR(VLOOKUP($B39,Filtro_DIC!$A$3:$N$35,10,FALSE),0)","v":2},{"$f":"IFERROR(VLOOKUP($B39,Filtro_DIC!$A$3:$N$35,11,FALSE),0)","v":1},{"$f":"IFERROR(VLOOKUP($B39,Filtro_DIC!$A$3:$N$35,12,FALSE),0)","v":0},{"$f":"IFERROR(VLOOKUP($B39,Filtro_DIC!$A$3:$N$35,13,FALSE),0)","v":0},20]
[null,"09600188",null,"CONTROL ",null,{"$f":"IFERROR(VLOOKUP($B40,Filtro_DIC!$A$3:$N$35,2,FALSE),0)","v":27},{"$f":"IFERROR(VLOOKUP($B40,Filtro_DIC!$A$3:$N$35,3,FALSE),0)","v":11},{"$f":"IFERROR(VLOOKUP($B40,Filtro_DIC!$A$3:$N$35,4,FALSE),0)","v":28},{"$f":"IFERROR(VLOOKUP($B40,Filtro_DIC!$A$3:$N$35,5,FALSE),0)","v":32},{"$f":"IFERROR(VLOOKUP($B40,Filtro_DIC!$A$3:$N$35,6,FALSE),0)","v":33},{"$f":"IFERROR(VLOOKUP($B40,Filtro_DIC!$A$3:$N$35,7,FALSE),0)","v":16},{"$f":"IFERROR(VLOOKUP($B40,Filtro_DIC!$A$3:$N$35,8,FALSE),0)","v":3},{"$f":"IFERROR(VLOOKUP($B40,Filtro_DIC!$A$3:$N$35,9,FALSE),0)","v":20},{"$f":"IFERROR(VLOOKUP($B40,Filtro_DIC!$A$3:$N$35,10,FALSE),0)","v":14},{"$f":"IFERROR(VLOOKUP($B40,Filtro_DIC!$A$3:$N$35,11,FALSE),0)","v":4},{"$f":"IFERROR(VLOOKUP($B40,Filtro_DIC!$A$3:$N$35,12,FALSE),0)","v":14},{"$f":"IFERROR(VLOOKUP($B40,Filtro_DIC!$A$3:$N$35,13,FALSE),0)","v":11},213]
[null,"09600192","IMPLANTOLOGÍA BUCO MAXILOFACIAL","CONSULTA NUEVA ",null,{"$f":"IFERROR(VLOOKUP($B41,Filtro_DIC!$A$3:$N$35,2,FALSE),0)","v":14},{"$f":"IFERROR(VLOOKUP($B41,Filtro_DIC!$A$3:$N$35,3,FALSE),0)","v":2},{"$f":"IFERROR(VLOOKUP($B41,Filtro_DIC!$A$3:$N$35,4,FALSE),0)","v":14},{"$f":"IFERROR(VLOOKUP($B41,Filtro_DIC!$A$3:$N$35,5,FALSE),0)","v":10},{"$f":"IFERROR(VLOOKUP($B41,Filtro_DIC!$A$3:$N$35,6,FALSE),0)","v":14},{"$f":"IFERROR(VLOOKUP($B41,Filtro_DIC!$A$3:$N$35,7,FALSE),0)","v":17},{"$f":"IFERROR(VLOOKUP($B41,Filtro_DIC!$A$3:$N$35,8,FALSE),0)","v":1},{"$f":"IFERROR(VLOOKUP($B41,Filtro_DIC!$A$3:$N$35,9,FALSE),0)","v":0},{"$f":"IFERROR(VLOOKUP($B41,Filtro_DIC!$A$3:$N$35,10,FALSE),0)","v":2},{"$f":"IFERROR(VLOOKUP($B41,Filtro_DIC!$A$3:$N$35,11,FALSE),0)","v":0},{"$f":"IFERROR(VLOOKUP($B41,Filtro_DIC!$A$3:$N$35,12,FALSE),0)","v":0},{"$f":"IFERROR(VLOOKUP($B41,Filtro_DIC!$A$3:$N$35,13,FALSE),0)","v":0},74]
[null,"09600193",null,"CONTROL ",null,{"$f":"IFERROR(VLOOKUP($B42,Filtro_DIC!$A$3:$N$35,2,FALSE),0)","v":38},{"$f":"IFERROR(VLOOKUP($B42,Filtro_DIC!$A$3:$N$35,3,FALSE),0)","v":3},{"$f":"IFERROR(VLOOKUP($B42,Filtro_DIC!$A$3:$N$35,4,FALSE),0)","v":29},{"$f":"IFERROR(VLOOKUP($B42,Filtro_DIC!$A$3:$N$35,5,FALSE),0)","v":17},{"$f":"IFERROR(VLOOKUP($B42,Filtro_DIC!$A$3:$N$35,6,FALSE),0)","v":19},{"$f":"IFERROR(VLOOKUP($B42,Filtro_DIC!$A$3:$N$35,7,FALSE),0)","v":18},{"$f":"IFERROR(VLOOKUP($B42,Filtro_DIC!$A$3:$N$35,8,FALSE),0)","v":4},{"$f":"IFERROR(VLOOKUP($B42,Filtro_DIC!$A$3:$N$35,9,FALSE),0)","v":19},{"$f":"IFERROR(VLOOKUP($B42,Filtro_DIC!$A$3:$N$35,10,FALSE),0)","v":22},{"$f":"IFERROR(VLOOKUP($B42,Filtro_DIC!$A$3:$N$35,11,FALSE),0)","v":5},{"$f":"IFERROR(VLOOKUP($B42,Filtro_DIC!$A$3:$N$35,12,FALSE),0)","v":18},{"$f":"IFERROR(VLOOKUP($B42,Filtro_DIC!$A$3:$N$35,13,FALSE),0)","v":25},217]
[null,"09600195","PATOLOGÍA ORAL","CONSULTA NUEVA ",null,{"$f":"IFERROR(VLOOKUP($B43,Filtro_DIC!$A$3:$N$35,2,FALSE),0)","v":0},{"$f":"IFERROR(VLOOKUP($B43,Filtro_DIC!$A$3:$N$35,3,FALSE),0)","v":0},{"$f":"IFERROR(VLOOKUP($B43,Filtro_DIC!$A$3:$N$35,4,FALSE),0)","v":0},{"$f":"IFERROR(VLOOKUP($B43,Filtro_DIC!$A$3:$N$35,5,FALSE),0)","v":0},{"$f":"IFERROR(VLOOKUP($B43,Filtro_DIC!$A$3:$N$35,6,FALSE),0)","v":0},{"$f":"IFERROR(VLOOKUP($B43,Filtro_DIC!$A$3:$N$35,7,FALSE),0)","v":0},{"$f":"IFERROR(VLOOKUP($B43,Filtro_DIC!$A$3:$N$35,8,FALSE),0)","v":0},{"$f":"IFERROR(VLOOKUP($B43,Filtro_DIC!$A$3:$N$35,9,FALSE),0)","v":0},{"$f":"IFERROR(VLOOKUP($B43,Filtro_DIC!$A$3:$N$35,10,FALSE),0)","v":0},{"$f":"IFERROR(VLOOKUP($B43,Filtro_DIC!$A$3:$N$35,11,FALSE),0)","v":0},{"$f":"IFERROR(VLOOKUP($B43,Filtro_DIC!$A$3:$N$35,12,FALSE),0)","v":15},{"$f":"IFERROR(VLOOKUP($B43,Filtro_DIC!$A$3:$N$35,13,FALSE),0)","v":8},23]
[null,"09600196",null,"CONTROL ",null,{"$f":"IFERROR(VLOOKUP($B44,Filtro_DIC!$A$3:$N$35,2,FALSE),0)","v":0},{"$f":"IFERROR(VLOOKUP($B44,Filtro_DIC!$A$3:$N$35,3,FALSE),0)","v":0},{"$f":"IFERROR(VLOOKUP($B44,Filtro_DIC!$A$3:$N$35,4,FALSE),0)","v":0},{"$f":"IFERROR(VLOOKUP($B44,Filtro_DIC!$A$3:$N$35,5,FALSE),0)","v":0},{"$f":"IFERROR(VLOOKUP($B44,Filtro_DIC!$A$3:$N$35,6,FALSE),0)","v":0},{"$f":"IFERROR(VLOOKUP($B44,Filtro_DIC!$A$3:$N$35,7,FALSE),0)","v":0},{"$f":"IFERROR(VLOOKUP($B44,Filtro_DIC!$A$3:$N$35,8,FALSE),0)","v":0},{"$f":"IFERROR(VLOOKUP($B44,Filtro_DIC!$A$3:$N$35,9,FALSE),0)","v":0},{"$f":"IFERROR(VLOOKUP($B44,Filtro_DIC!$A$3:$N$35,10,FALSE),0)","v":0},{"$f":"IFERROR(VLOOKUP($B44,Filtro_DIC!$A$3:$N$35,11,FALSE),0)","v":0},{"$f":"IFERROR(VLOOKUP($B44,Filtro_DIC!$A$3:$N$35,12,FALSE),0)","v":13},{"$f":"IFERROR(VLOOKUP($B44,Filtro_DIC!$A$3:$N$35,13,FALSE),0)","v":3},16]
[null,"09600198","TRASTORNOS TEMPOROMANDIBULARES Y DOLOR OROFACIAL","CONSULTA NUEVA ",null,{"$f":"IFERROR(VLOOKUP($B45,Filtro_DIC!$A$3:$N$35,2,FALSE),0)","v":6},{"$f":"IFERROR(VLOOKUP($B45,Filtro_DIC!$A$3:$N$35,3,FALSE),0)","v":8},{"$f":"IFERROR(VLOOKUP($B45,Filtro_DIC!$A$3:$N$35,4,FALSE),0)","v":10},{"$f":"IFERROR(VLOOKUP($B45,Filtro_DIC!$A$3:$N$35,5,FALSE),0)","v":10},{"$f":"IFERROR(VLOOKUP($B45,Filtro_DIC!$A$3:$N$35,6,FALSE),0)","v":7},{"$f":"IFERROR(VLOOKUP($B45,Filtro_DIC!$A$3:$N$35,7,FALSE),0)","v":15},{"$f":"IFERROR(VLOOKUP($B45,Filtro_DIC!$A$3:$N$35,8,FALSE),0)","v":7},{"$f":"IFERROR(VLOOKUP($B45,Filtro_DIC!$A$3:$N$35,9,FALSE),0)","v":11},{"$f":"IFERROR(VLOOKUP($B45,Filtro_DIC!$A$3:$N$35,10,FALSE),0)","v":12},{"$f":"IFERROR(VLOOKUP($B45,Filtro_DIC!$A$3:$N$35,11,FALSE),0)","v":14},{"$f":"IFERROR(VLOOKUP($B45,Filtro_DIC!$A$3:$N$35,12,FALSE),0)","v":2},{"$f":"IFERROR(VLOOKUP($B45,Filtro_DIC!$A$3:$N$35,13,FALSE),0)","v":6},108]
[null,"09600199",null,"CONTROL ",null,{"$f":"IFERROR(VLOOKUP($B46,Filtro_DIC!$A$3:$N$35,2,FALSE),0)","v":36},{"$f":"IFERROR(VLOOKUP($B46,Filtro_DIC!$A$3:$N$35,3,FALSE),0)","v":31},{"$f":"IFERROR(VLOOKUP($B46,Filtro_DIC!$A$3:$N$35,4,FALSE),0)","v":38},{"$f":"IFERROR(VLOOKUP($B46,Filtro_DIC!$A$3:$N$35,5,FALSE),0)","v":45},{"$f":"IFERROR(VLOOKUP($B46,Filtro_DIC!$A$3:$N$35,6,FALSE),0)","v":46},{"$f":"IFERROR(VLOOKUP($B46,Filtro_DIC!$A$3:$N$35,7,FALSE),0)","v":52},{"$f":"IFERROR(VLOOKUP($B46,Filtro_DIC!$A$3:$N$35,8,FALSE),0)","v":34},{"$f":"IFERROR(VLOOKUP($B46,Filtro_DIC!$A$3:$N$35,9,FALSE),0)","v":37},{"$f":"IFERROR(VLOOKUP($B46,Filtro_DIC!$A$3:$N$35,10,FALSE),0)","v":41},{"$f":"IFERROR(VLOOKUP($B46,Filtro_DIC!$A$3:$N$35,11,FALSE),0)","v":30},{"$f":"IFERROR(VLOOKUP($B46,Filtro_DIC!$A$3:$N$35,12,FALSE),0)","v":20},{"$f":"IFERROR(VLOOKUP($B46,Filtro_DIC!$A$3:$N$35,13,FALSE),0)","v":17},427]
[null,null,"TOTAL","URGENCIA",null,{"$f":"SUM(F17:F18)","v":75},{"$f":"SUM(G17:G18)","v":50},53,53,49,11,30,54,19,33,25,17,{"$f":"SUM(F47:Q47)","v":469}]
[{"$nulls":3},"CONSULTA NUEVA ",null,{"$f":"SUM(F19,F21,F23,F25,F27,F29,F31,F33,F35,F37,F39,F41,F43,F45)","v":423},{"$f":"SUM(G19,G21,G23,G25,G27,G29,G31,G33,G35,G37,G39,G41,G43,G45)","v":314},508,386,469,591,507,324,341,416,518,381,{"$f":"SUM(F48:Q48)","v":5178}]
[{"$nulls":3},"CONTROL ",null,{"$f":"SUM(F20,F22,F24,F26,F28,F30,F32,F34,F36,F38,F40,F42,F44,F46)","v":1606},1064,1909,1623,1901,1466,1501,1990,1315,1635,1706,1537,19253]

{"sheet":"Filtro_DIC","index":7,"n_rows":35,"n_cols":14,"rows_kept":35,"hidden":true}
["IdEstablecimiento","105100"]
[]
["Suma de Col01","Etiquetas de columna"]
["Etiquetas de fila",1,2,3,4,5,6,7,8,9,10,11,12,"Total general"]
["09240700",48,36,37,41,38,10,18,37,17,22,22,11,337]
["09600155",16,24,25,7,36,39,36,11,45,59,59,35,392]
["09600156",75,92,75,25,89,93,104,132,76,92,118,55,1026]
["09600158",45,55,53,52,61,65,42,50,67,90,90,73,743]
["09600159",120,151,210,229,193,193,136,165,140,201,208,252,2198]
["09600161",112,88,175,124,128,139,146,104,84,82,85,66,1333]
["09600162",189,153,251,172,246,180,216,223,187,226,198,190,2431]
["09600164",70,30,48,48,49,42,55,36,32,44,42,35,531]
["09600165",227,139,226,189,225,176,233,187,191,192,248,245,2478]
["09600167",11,5,9,6,11,15,7,6,8,6,14,4,102]
["09600168",52,17,35,32,50,30,20,41,30,25,26,15,373]
["09600170",31,12,42,38,52,52,68,10,0,0,43,57,405]
["09600171",216,110,309,260,327,196,345,364,82,303,292,336,3140]
["09600173",14,3,10,1,8,7,10,1,null,null,16,13,83]
["09600174",101,38,117,105,129,73,104,126,27,116,93,85,1114]
["09600178",40,43,46,33,42,102,68,66,62,81,69,56,708]
["09600179",181,112,214,105,158,170,118,201,131,148,158,129,1825]
["09600181",null,4,9,2,4,6,1,null,2,5,5,null,38]
["09600182",7,4,10,6,10,5,5,11,10,6,8,8,90]
["09600184",62,40,63,53,54,92,65,24,25,34,78,28,618]
["09600185",337,203,367,406,376,264,179,464,364,287,292,166,3705]
["09600187",2,0,4,2,3,0,1,5,2,1,null,null,20]
["09600188",27,11,28,32,33,16,3,20,14,4,14,11,213]
["09600192",14,2,14,10,14,17,1,null,2,{"$nulls":3},74]
["09600193",38,3,29,17,19,18,4,19,22,5,18,25,217]
["09600195",{"$nulls":10},15,8,23]
["09600196",{"$nulls":10},13,3,16]
["09600198",6,8,10,10,7,15,7,11,12,14,2,6,108]
["09600199",36,31,38,45,46,52,34,37,41,30,20,17,427]
["09600325",27,14,16,12,11,1,12,17,2,11,3,6,132]
["Total general",2104,1428,2470,2062,2419,2068,2038,2368,1675,2084,2249,1935,24900]